Workbook
Name millon: #REF!
Name incBuyerDossierDetaillnkRequestName: 'Contratación 2023'!$L$61
Name _Hlk125366930: 'Contratación 2023'!$L$62

Sheet Contratación 2023
A1: ENTIDAD | B1: NIT | C1: PLATAFORMA | D1: CONSECUTIVO PAABS EXCEL Y ESTUDIOS PREVIOS | E1: PROFESIONAL ENCARGADO | F1: EXPEDIENTE | G1: MES | H1: FECHA PUBLICACION PROCESO SECOP II-TIENDA VIRTUAL | I1: N°PROCESO EN SECOP / No. EVENTO /RFI/RFQ | J1: FECHA PUBLICACION RFI | K1: NÚMERO RFQ - ACUERDO MARCO | L1: OBJETO | M1: MODALIDAD | N1: CAUSAL | O1: AREA DE LA NECESIDAD | P1: CODIGO UNSCSP | Q1: NOMBRE DE CODIGO | R1: VALOR PROCESO EN EL PAABS SECOP II | S1: VALOR PROCESO ESTUDIOS PREVIOS | T1: CDP | U1: RUBRO | V1: ETAPA | W1: ESTADO | X1: RESOLUCION DECLARACTORIA DESIERTO | Y1: N° DE CONTRATO CELEBRADO | Z1: FECHA DE FIRMA CONTRATO | AA1: TIPO DE CONTRATO | AB1: OTRO TIPO DE CONTRATO | AC1: REGIONAL | AD1: LUGAR DE EJECUCION | AE1: CONTRATISTA | AF1: IDENTIFICACION | AG1: DV | AH1: EMPRESAS QUE LO CONFORMAN (CUANDO APLIQUE) | AI1: PROFESIÓN | AJ1: MYPIME | AK1: CLASIFICACION | AL1: TIPO DE ORGANIZACIÓN | AM1: FECHA DE NACIMIENTO | AN1: EDAD | AO1: N° RP | AP1: FECHA RP | AQ1: VALOR 2023 | AR1: VALOR VF 2024 | AS1: VALOR VF 2025 | AT1: VALOR VF 2026 | AU1: VALOR TOTAL CONTRATO + VF | AV1: GARANTIA | AW1: FECHA DE EXPEDICION GARANTIA | AX1: RIESGOS | AY1: FECHA DE INICIO DEL CONTRATO | AZ1: MES2 | BA1: FECHA DE TERMINACION DEL CONTRATO | BB1: DIAS DE EJECUCION DEL CONTRATO | BC1: NOMBRE SUPERVISOR | BD1: CEDULA SUPERVISOR | BE1: ADICION 1 | BF1: FECHA DE FIRMA | BG1: ADICION 2 | BH1: FECHA FIRMA | BI1: ADICION 3 | BJ1: FECHADE FIRMA | BK1: ADICION 4 | BL1: FECHADE FIRMA | BM1: LIBERACION | BN1: FECHA LIBERACION | BO1: VALOR TOTAL DEL CONTRATO CON MODIFICACIONES (ADICIONES - REDUCCIONES - LIBERACIONES VIGENCIA) | BP1: PRORROGA 1 EN DIAS | BQ1: FECHADE TERMINACION DEL CONTRATO | BR1: FECHA FIRMA DEL DOCUMENTO | BS1: PRORROGA 2 EN DIAS | BT1: FECHA DE TERMINACION DEL CONTRATO2 | BU1: FECHA FIRMA DEL DOCUMENTOS | BV1: PRORROGA 3 EN DIAS | BW1: FECHA DE TERMINACION DEL CONTRATO3 | BX1: FECHA FIRMA DEL DOCUMENTO2 | BY1: TIEMPO DE EJECUCION DEL CONTRATO CON LAS PRORROGAS | BZ1: FECHA DE LIQUIDACION DEL CONTRATO | CA1: OBSERVACION
A2: UNIDAD ADMINISTRATIVA ESPECIAL MIGRACIÓN COLOMBIA | B2: 900477235-6 | C2: Secop II | D2: 233 | E2: Dayanna Prieto Villalba | F2: 20236231407000005E | G2: Febrero | H2: 44985 | I2: MC-001-2023-8CM | J2: N/A | K2: N/A | L2: SERVICIO DE MANTENIMIENTO PREVENTIVO Y CORRECTIVO PARA LOS EQUIPOS DE GRAFOLOGÍA ESTÉREO MICROSCOPIOS A NIVEL NACIONAL, CON BOLSA DE REPUESTOS | M2: Mínima cuantía | N2: Prestación de Servicios Profesionales | O2: Subdirección de Control Migratorio | P2: 46151708;46151712;72151704;81101706;81101713 | Q2: Magnificadores para uso forense - Servicio de instalación y mantenimiento de sistemas instrumentados de seguridad - Mantenimiento de equipos de laboratorio - Estaciones de trabajo químico para uso forense - Servicio técnico y de diseño de instrumentos de medición y de registro electrónicos | R2: 16414057 | S2: 16414057 | T2: 21523 | U2: C-1199-1002-10-0-1199001-02 | V2: Celebrado | W2: En ejecución | X2: N/A | Y2: AO-005-2023 | Z2: 45015 | AA2: Prestación de Servicios Profesionales | AB2: N/A | AC2: Nivel Central | AD2: Bogotá D.C. | AE2: CI GLOBAL SCIENTIFIC S.A.S | AF2: 830067880 | AG2: 4 | AH2: N/A | AI2: N/A | AJ2: SI | AK2: N/A | AL2: Sociedad por acciones simplificadas | AM2: N/A | AN2: N/A | AO2: 68126 | AP2: 45027 | AQ2: 16231600 | AU2: 16231600 | AV2: Si | AW2: 45026 | AX2: Cumplimiento | AY2: 45027 | AZ2: Marzo | BA2: 45291 | BB2: =(BA2-AY2) -> 264 | BC2: ROBINSON VALENCIA GIRALDO | BD2: 75035031 | BE2: 0 | BG2: 0 | BI2: 0 | BM2: 0 | BO2: =SUM(AU2+BE2+BG2+BI2-BM2) -> 16231600 | BY2: =SUM(BB2+BP2+BS2+BV2) -> 264
A3: UNIDAD ADMINISTRATIVA ESPECIAL MIGRACIÓN COLOMBIA | B3: 900477235-6 | C3: Secop II | D3: 281 | E3: Dayanna Prieto Villalba | F3: 20236231415000011E | G3: Febrero | H3: 44985 | I3: PCD-089-2023 | J3: N/A | K3: N/A | L3: CONTRATAR EL SERVICIO DE MANTENIMIENTO PREVENTIVO DE LA MÁQUINA LÁSER TROTEC SP100R C30 Y DEL SUMINISTRO DEL SISTEMA DE EXTRACCIÓN 8260 ATMOS MONO Y SU RESPECTIVA BOLSA DE REPUESTOS. | M3: Contratación Directa | N3: Exclusividad | O3: Subdirección de Control Migratorio | P3: 73152100 | Q3: Servicios de mantenimiento y reparación de equipo de manufactura | R3: 16275000 | S3: 16275000 | T3: 13023 | U3: C-1199-1002-10-0-1199001-02 | V3: Celebrado | W3: En ejecución | X3: N/A | Y3: CO-105-2023 | Z3: 45007 | AA3: Prestación de Servicios Profesionales | AB3: N/A | AC3: Regional Andina | AD3: Bogotá D.C. | AE3: EDALTEC S.A.S | AF3: 900426006 | AG3: 8 | AH3: N/A | AI3: N/A | AJ3: NO | AK3: No es mipyme | AL3: Sociedad por acciones simplificadas | AM3: N/A | AN3: N/A | AO3: 59423 | AP3: 45008 | AQ3: 16275000 | AR3: 0 | AS3: 0 | AT3: 0 | AU3: =SUM(AQ3+AR3+AS3+AT3) -> 16275000 | AV3: Si | AW3: 45008 | AX3: Cumplimiento | AY3: 45008 | AZ3: Marzo | BA3: 45291 | BB3: =(BA3-AY3) -> 283 | BC3: ROBINSON VALENCIA GIRALDO | BD3: 75035031 | BE3: 0 | BG3: 0 | BI3: 0 | BM3: 0 | BO3: =SUM(AU3+BE3+BG3+BI3-BM3) -> 16275000 | BY3: =SUM(BB3+BP3+BS3+BV3) -> 283
A4: UNIDAD ADMINISTRATIVA ESPECIAL MIGRACIÓN COLOMBIA | B4: 900477235-6 | C4: Secop II | D4: 224 | E4: Alejandra María Arcos Medina | F4: 20236231415000017E | G4: Mayo | H4: 45077 | I4: PCD-132-2023 | J4: N/A | K4: N/A | L4: ADQUISICIÓN DE INSUMOS PARA SELLOS DE CONTROL MIGRATORIO. | M4: Contratación Directa | N4: Exclusividad | O4: Subdirección de Control Migratorio | P4: 24141504 | Q4: Suministros para seguridad y protección | R4: 37160000 | S4: 37157036 | T4: 40223 | U4: A-02-02-01-003-005 | V4: Celebrado | W4: En ejecución | X4: N/A | Y4: CO-147-2023 | Z4: 45112 | AA4: Compraventa | AB4: N/A | AC4: Nivel Central | AD4: Bogotá | AE4: DISTRIBUCIONES EDAL SAS | AF4: 800219241 | AG4: 2 | AH4: N/A | AI4: N/A | AJ4: si | AK4: Pequeña | AL4: Sociedad por acciones simplificadas | AM4: N/A | AN4: N/A | AO4: 121823 | AP4: 45114 | AQ4: 37157036 | AR4: 0 | AS4: 0 | AT4: 0 | AU4: =SUM(AQ4+AR4+AS4+AT4) -> 37157036 | AV4: No | AW4: N/A | AX4: No aplica | AY4: 45114 | AZ4: Julio | BA4: 45138 | BB4: =(BA4-AY4) -> 24 | BC4: ROBINSON VALENCIA GIRALDO | BD4: 75035031 | BE4: 0 | BG4: 0 | BI4: 0 | BM4: 0 | BO4: =SUM(AU4+BE4+BG4+BI4-BM4) -> 37157036 | BY4: =SUM(BB4+BP4+BS4+BV4) -> 24
A5: UNIDAD ADMINISTRATIVA ESPECIAL MIGRACIÓN COLOMBIA | B5: 900477235-6 | C5: Secop II | D5: 308 | E5: Alejandra María Arcos Medina | F5: 20236231415000019E | G5: Agosto | H5: 45152 | I5: PCD-147-2023 | J5: N/A | K5: N/A | L5: ADQUIRIR LECTORAS DE DOCUMENTOS | M5: Contratación Directa | N5: Exclusividad | O5: Subdirección de Control Migratorio | P5: 43211700 | Q5: Difusión de Tecnología de Información y Telecomunicaciones | R5: 1400000000 | S5: 1400000000 | T5: 45523 | U5: C-1199-1002-10-0-1199001-02 | V5: Celebrado | W5: En ejecución | X5: N/A | Y5: CO-183-2023 | Z5: 45174 | AA5: Compraventa | AB5: N/A | AC5: Nivel Central | AD5: Bogotá D.C. | AE5: THALES COLOMBIA S.A | AF5: 830079892 | AG5: 4 | AH5: N/A | AI5: N/A | AJ5: N/A | AK5: No es mipyme | AL5: N/A | AM5: N/A | AN5: N/A | AO5: 157423 | AP5: 45174 | AQ5: 1400000000 | AR5: 0 | AS5: 0 | AT5: 0 | AU5: =SUM(AQ5+AR5+AS5+AT5) -> 1400000000 | AV5: Si | AW5: 45197 | AX5: Cumplimiento | AY5: 45197 | AZ5: Septiembre | BA5: 45291 | BB5: =(BA5-AY5) -> 94 | BC5: ROBINSON VALENCIA TECLADO | BD5: 75035031 | BE5: 0 | BG5: 0 | BI5: 0 | BM5: 0 | BO5: =SUM(AU5+BE5+BG5+BI5-BM5) -> 1400000000 | BY5: =SUM(BB5+BP5+BS5+BV5) -> 94
A6: UNIDAD ADMINISTRATIVA ESPECIAL MIGRACIÓN COLOMBIA | B6: 900477235-6 | C6: TVEC | D6: 375 | E6: Belisa Amparo Oviedo Diaz | F6: 20236231409000008E | G6: Diciembre | H6: 45271 | I6: 203257 | J6: N/A | K6: N/A | L6: CONTRATAR LA ADQUISICIÓN DE ELECTRODOMESTICOS, PARA EL BIENESTAR DE LOS FUNCIONARIOS DE MIGRACION COLOMBIA DE ACUERDO A LAS CONDICIONES DESCRITA EN LOS ESTUDIOS PREVIOS | M6: Mínima cuantía | N6: Grandes Superficies | O6: Subdirección de Talento Humano | P6: 52141501-02-52161505- | Q6: neveras - microondas - televisores | R6: 52000000 | S6: 52000000 | T6: 61323 | U6: A-02-02-01-004-004 | V6: Celebrado | W6: En ejecución | X6: N/A | Y6: 122030 | Z6: 45267 | AA6: Compraventa | AB6: N/A | AC6: Nivel Central | AD6: Bogotá D.C. | AE6: TECNOPROCESOS S.A.S | AF6: 900273006 | AG6: 1 | AH6: N/A | AI6: N/A | AJ6: NO | AL6: Sociedad por Acciones Simplificada | AM6: N/A | AO6: 217023 | AP6: 45271 | AQ6: 40879200 | AR6: 0 | AS6: 0 | AT6: 0 | AU6: =SUM(AQ6+AR6+AS6+AT6) -> 40879200 | AV6: No | AY6: 45267 | AZ6: Diciembre | BA6: 45278 | BB6: =(BA6-AY6) -> 11 | BC6: ANGY ACOCHA ARISTIZABAL | BD6: 52813239 | BE6: 0 | BG6: 0 | BI6: 0 | BM6: 0 | BO6: =SUM(AU6+BE6+BG6+BI6-BM6) -> 40879200 | BY6: =SUM(BB6+BP6+BS6+BV6) -> 11
A7: UNIDAD ADMINISTRATIVA ESPECIAL MIGRACIÓN COLOMBIA | B7: 900477235-6 | C7: TVEC | D7: 375 | E7: Belisa Amparo Oviedo Diaz | F7: 20236231409000007E | G7: Diciembre | H7: 45271 | I7: 206582 | J7: N/A | K7: N/A | L7: CONTRATAR LA ADQUISICIÓN DE ELECTRODOMESTICOS, PARA EL BIENESTAR DE LOS FUNCIONARIOS DE MIGRACION COLOMBIA DE ACUERDO A LAS CONDICIONES DESCRITA EN LOS ESTUDIOS PREVIOS | M7: Mínima cuantía | N7: Grandes Superficies | O7: Subdirección de Talento Humano | P7: 52141501-02-52161505- | Q7: neveras - microondas - televisores | R7: 52000000 | S7: 52000000 | T7: 61323 | U7: A-02-02-01-004-004 | V7: Celebrado | W7: En ejecución | X7: N/A | Y7: 122032 | Z7: 45267 | AA7: Compraventa | AB7: N/A | AC7: Nivel Central | AD7: Bogotá D.C. | AE7: FERRICENTRO S.A.S. | AF7: 800237412 | AG7: 1 | AH7: N/A | AI7: N/A | AJ7: NO | AL7: Sociedad por Acciones Simplificada | AM7: N/A | AO7: 218023 | AP7: 45272 | AQ7: 8997972 | AR7: 0 | AS7: 0 | AT7: 0 | AU7: =SUM(AQ7+AR7+AS7+AT7) -> 8997972 | AV7: No | AY7: 45267 | AZ7: Diciembre | BA7: 45278 | BB7: =(BA7-AY7) -> 11 | BC7: ANGY ACOCHA ARISTIZABAL | BD7: 52813239 | BE7: 0 | BG7: 0 | BI7: 0 | BM7: 0 | BO7: =SUM(AU7+BE7+BG7+BI7-BM7) -> 8997972 | BY7: =SUM(BB7+BP7+BS7+BV7) -> 11
A8: UNIDAD ADMINISTRATIVA ESPECIAL MIGRACIÓN COLOMBIA | B8: 900477235-6 | C8: Secop II | D8: 1 | E8: Dayanna Prieto Villalba | F8: 20236311413000001E | G8: Enero | H8: 44937 | I8: PCD-004-2023-1D | J8: N/A | K8: N/A | L8: PRESTACIÖN DE SERVICIOS PROFESIONALES CON AUTONOMÍA TÉCNICA Y ADMINISTRATIVA PARA APOYAR LA GESTIÓN DE LA DIRECCIÓN GENERAL EN LA ESTRATEGIA DE COMUNICACIONES Y POSICIONAMIENTO DE LA ENTIDAD, DE CARA A LAS RELACIONES NACIONALES E INTERNACIONALES FRENTE A LOS PROCESOS DE GESTIÓN MIGRATORIA QUE SE DESARROLLAN EN EL PAÍS. | M8: Contratación Directa | N8: Prestación de Servicios Profesionales | O8: Dirección General | P8: 80161504 | Q8: Servicios de oficina | R8: 138000000 | S8: 138000000 | T8: 11223 | U8: A-02-02-02-008-003 | V8: Celebrado | W8: En ejecución | X8: N/A | Y8: CO-001-2023 | Z8: 44939 | AA8: Prestación de Servicios Profesionales | AB8: N/A | AC8: Nivel Central | AD8: Bogotá D.C. | AE8: LESLIE CATALINA ESPARZA NARANJO | AF8: 52046198 | AG8: - | AH8: N/A | AI8: COMUNICACIÓN SOCIAL | AJ8: NO | AK8: No es mipyme | AL8: N/A | AM8: 26047 | AN8: =+YEAR(TODAY())-YEAR('Contratación 2023'!$AM2) -> #VALUE! | AO8: 13723 | AP8: 44938 | AQ8: 138000000 | AR8: 0 | AS8: 0 | AT8: 0 | AU8: =SUM(AQ8+AR8+AS8+AT8) -> 138000000 | AV8: Si | AW8: 44943 | AX8: Cumplimiento | AY8: 44943 | AZ8: Enero | BA8: 45291 | BB8: =(BA8-AY8) -> 348 | BC8: MARIA PAULA AVILA GONZALEZ | BD8: 52619262 | BE8: 0 | BG8: 0 | BI8: 0 | BM8: 0 | BO8: =SUM(AU8+BE8+BG8+BI8-BM8) -> 138000000 | BY8: =SUM(BB8+BP8+BS8+BV8) -> 348
A9: UNIDAD ADMINISTRATIVA ESPECIAL MIGRACIÓN COLOMBIA | B9: 900477235-6 | C9: Secop II | D9: 3 | E9: Belisa Amparo Oviedo Diaz | F9: 20232111413000001E | G9: Enero | H9: 44953 | I9: PCD-050-2023-3D | J9: N/A | K9: N/A | L9: PRESTACIÖN DE SERVICIOS PROFESIONALES CON AUTONOMÍA TÉCNICA Y ADMINISTRATIVA PARA EL APOYO EN LA GESTIÓN DE LA DIRECCIÓN GENERAL EN EL SEGUIMIENTO A COMPROMISOS INTERNACIONALES Y PROYECTOS DE COOPERACIÓN INTERNACIONAL, DE ACUERDO CON LAS CONDICIONES SEÑALADAS Y ESPECIFICACIONES TÉCNICAS DESCRITAS EN LOS ESTUDIOS PREVIOS. | M9: Contratación Directa | N9: Prestación de Servicios Profesionales | O9: Dirección General | P9: 80111600 | Q9: Servicios de oficina | R9: 46000000 | S9: 44000000 | T9: 18823 | U9: A-02-02-02-008-003 | V9: Celebrado | W9: En ejecución | X9: N/A | Y9: CO-053-2023 | Z9: 44957 | AA9: Prestación de Servicios Profesionales | AB9: N/A | AC9: Nivel Central | AD9: Bogotá D.C. | AE9: MARÍA FERNANDA OSPINA CARO | AF9: 1026593280 | AG9: - | AH9: N/A | AI9: PROFESIONAL EN RELACIONES INTERNACIONALES | AJ9: NO | AK9: PERSONA NATURAL | AL9: N/A | AM9: 35931 | AN9: =+YEAR(TODAY())-YEAR('Contratación 2023'!$AM3) -> #VALUE! | AO9: 30823 | AP9: 44957 | AQ9: 44000000 | AR9: 0 | AS9: 0 | AT9: 0 | AU9: =SUM(AQ9+AR9+AS9+AT9) -> 44000000 | AV9: Si | AW9: 44956 | AX9: Cumplimiento | AY9: 44958 | AZ9: Enero | BA9: 45291 | BB9: =(BA9-AY9) -> 333 | BC9: VANESSA ORTIZ LOPEZ | BD9: 1144031972 | BE9: 5000000 | BF9: 45254 | BG9: 0 | BI9: 0 | BM9: 0 | BO9: =SUM(AU9+BE9+BG9+BI9-BM9) -> 49000000 | BY9: =SUM(BB9+BP9+BS9+BV9) -> 333
A10: UNIDAD ADMINISTRATIVA ESPECIAL MIGRACIÓN COLOMBIA | B10: 900477235-6 | C10: Secop II | D10: 153 | E10: Belisa Amparo Oviedo Diaz | F10: 20236231414000004E | G10: Marzo | H10: 44993 | I10: PCD-103-2023-35SYF | J10: N/A | K10: N/A | L10: CONTRATAR EL ARRENDAMIENTO DE CUPOS DE PARQUEADERO PARA EL PARQUE AUTOMOTOR DE LA REGIONAL EJE CAFETERO UBICADA EN LA CIUDAD DE PEREIRA | M10: Contratación Directa | N10: Arrendamiento | O10: Subdirección Administrativa y Financiera | P10: 80131502 | Q10: Arrendamiento de Instalaciones comerciales o industriales | R10: 25139584 | S10: 25139584 | T10: 25923 | U10: A-02-02-02-007-002 | V10: Celebrado | W10: En ejecución | X10: N/A | Y10: CO-100-2023 | Z10: 45001 | AA10: Arrendamiento | AB10: N/A | AC10: Regional Eje Cafetero | AD10: Pereira | AE10: UNIÒN TEMPORAL CITY PARKING BROKERS /: JUAN CARLOS SALAZAR SANTOS | AF10: 901317464 | AG10: 4 | AH10: PARKING BROKERS S.A.S / CITY PARKING S.A.S | AI10: N/A | AJ10: NO | AK10: REGIMEN COMUN | AM10: N/A | AN10: N/A | AO10: 57023 | AP10: 45001 | AQ10: 25139584 | AR10: 0 | AS10: 0 | AT10: 0 | AU10: =SUM(AQ10+AR10+AS10+AT10) -> 25139584 | AV10: No | AW10: N/A | AX10: No aplica | AY10: 44999 | AZ10: Marzo | BA10: 45291 | BB10: =(BA10-AY10) -> 292 | BC10: ELISABETH USECHE | BD10: 25166983 | BE10: 12507149 | BF10: 45288 | BG10: 0 | BI10: 0 | BM10: 0 | BO10: =SUM(AU10+BE10+BG10+BI10-BM10) -> 37646732 | BP10: =(BQ10-BA10) -> 135 | BQ10: 45426 | BR10: 45288 | BY10: =SUM(BB10+BP10+BS10+BV10) -> 427
A11: UNIDAD ADMINISTRATIVA ESPECIAL MIGRACIÓN COLOMBIA | B11: 900477235-6 | C11: Secop II | D11: 4 | E11: Dayanna Prieto Villalba | F11: 20236011413000002E | G11: Enero | H11: 44951 | I11: PCD-042-2023-4D | J11: N/A | K11: N/A | L11: PRESTAR LOS SERVICIOS PROFESIONALES ESPECIALIZADO CON AUTONOMÍA TÉCNICA Y ADMINISTRATIVA PARA APOYAR LA GESTIÓN DE LA DIRECCIÓN GENERAL DE MIGRACIÓN COLOMBIA, DE ACUERDO CON LAS CONDICIONES SEÑALADAS Y ESPECIFICACIONES TÉCNICAS DESCRITAS EN LOS ESTUDIOS PREVIOS. | M11: Contratación Directa | N11: Prestación de Servicios Profesionales | O11: Dirección General | P11: 80161504 | Q11: Servicios de oficina | R11: 80000000 | S11: 80000000 | T11: 14023 | U11: A-02-02-02-008-003 | V11: Celebrado | W11: Terminación anticipada | X11: N/A | Y11: CO-050-2023 | Z11: 44952 | AA11: Prestación de Servicios Profesionales | AB11: N/A | AC11: Nivel Central | AD11: Bogotá D.C. | AE11: LUIS FERNANDO MARTÍNEZ VARGAS | AF11: 79951390 | AG11: - | AH11: N/A | AI11: ECONOMIA | AJ11: NO | AK11: No es mipyme | AL11: N/A | AM11: 29014 | AN11: =+YEAR(TODAY())-YEAR('Contratación 2023'!$AM5) -> #VALUE! | AO11: 27723 | AP11: 44952 | AQ11: 80000000 | AR11: 0 | AS11: 0 | AT11: 0 | AU11: =SUM(AQ11+AR11+AS11+AT11) -> 80000000 | AV11: Si | AW11: 44953 | AX11: Cumplimiento | AY11: 44958 | AZ11: Enero | BA11: 45200 | BB11: =(BA11-AY11) -> 242 | BC11: MARIA PAULA AVILA GONZALEZ | BD11: 52619262 | BE11: 0 | BG11: 0 | BI11: 0 | BM11: 0 | BO11: =SUM(AU11+BE11+BG11+BI11-BM11) -> 80000000 | BY11: =SUM(BB11+BP11+BS11+BV11) -> 242 | BZ11: 45156 | CA11: LIQUIDADO
A12: UNIDAD ADMINISTRATIVA ESPECIAL MIGRACIÓN COLOMBIA | B12: 900477235-6 | C12: Secop II | D12: 302 | E12: Belisa Amparo Oviedo Diaz | F12: 20236231407000042E | G12: Junio | H12: 45098 | I12: MC-023-2023 | J12: N/A | K12: N/A | L12: CONTRATAR EL SUMINISTRO DE COMBUSTIBLE PARA EL PARQUE AUTOMOTOR Y PLANTAS ELÉCTRICAS DE LA REGIONAL SAN ANDRÉS Y PROVIDENCIA – CFSM SAN ANDRÉS Y PROVIDENCIA. | M12: Mínima cuantía | N12: Prestación de Servicios | O12: Subdirección Administrativa y Financiera | P12: 15101506 | Q12: Combustible diésel | R12: 5000000 | S12: 5000000 | T12: 35623 | U12: A-02-02-01-003-003 | V12: Celebrado | W12: En ejecución | X12: N/A | Y12: AO-017-2023 | Z12: 45120 | AA12: Suministro | AB12: N/A | AC12: Regional San Andres | AD12: San Andres y providencia | AE12: AUTO ISLAS SAS | AF12: 800020672 | AG12: 7 | AH12: N/A | AI12: N/A | AJ12: NO | AK12: REGIMEN COMUN | AL12: SOCIEDAD POR ACCIONES SIMPLIFICADA | AM12: N/A | AN12: N/A | AO12: 125223 | AP12: 45121 | AQ12: 5000000 | AR12: 0 | AS12: 0 | AT12: 0 | AU12: 5000000 | AV12: Si | AW12: 45121 | AX12: Cumplimiento | AY12: 45120 | AZ12: Julio | BA12: 45291 | BB12: =(BA12-AY12) -> 171 | BC12: ARLET PATRICIA VILLADIEGO | BD12: 1123626271 | BE12: 2500000 | BF12: 45287 | BG12: 0 | BI12: 0 | BM12: 0 | BO12: =SUM(AU12+BE12+BG12+BI12-BM12) -> 7500000 | BY12: =SUM(BB12+BP12+BS12+BV12) -> 171
A13: UNIDAD ADMINISTRATIVA ESPECIAL MIGRACIÓN COLOMBIA | B13: 900477235-6 | C13: Secop II | D13: 159 | E13: Belisa Amparo Oviedo Diaz | F13: 20236231414000013E | G13: Junio | H13: 45107 | I13: PCD-137-2023 | J13: N/A | K13: N/A | L13: CONTRATAR EL ARRENDAMIENTO DE UN INMUEBLE PARA EL FUNCIONAMIENTO DEL CFSM DE ARMENIA PERTENECIENTE A LA REGIONAL EJE CAFETERO DE MIGRACIÓN COLOMBIA | M13: Contratación Directa | N13: Arrendamiento | O13: Subdirección Administrativa y Financiera | P13: 80131502 | Q13: Arrendamiento de Instalaciones comerciales o Industriales | R13: 50507916 | S13: 50507916 | T13: 43123 | U13: A-02-02-02-007-002 | V13: Celebrado | W13: En ejecución | X13: N/A | Y13: CO-152-2023 | Z13: 45108 | AA13: Prestación de Servicios de apoyo a la Gestión | AB13: N/A | AC13: Regional Eje Cafetero | AD13: QUINDIO | AE13: INMOBILIARIA ARD ASESORAR COLOMBIA | AF13: 41889835 | AG13: 8 | AH13: N/A | AI13: N/A | AJ13: NO | AK13: RÉGIMEN COMÚN | AL13: N/A | AM13: N/A | AN13: N/A | AO13: 119923 | AP13: 45114 | AQ13: 50507916 | AR13: 0 | AS13: 0 | AT13: 0 | AU13: =SUM(AQ13+AR13+AS13+AT13) -> 50507916 | AV13: No | AW13: N/A | AX13: No aplica | AY13: 45108 | AZ13: Julio | BA13: 45291 | BB13: =(BA13-AY13) -> 183 | BC13: ELISABETH USECHE MARIN | BD13: 25166983 | BE13: 25253958 | BF13: 45274 | BG13: 0 | BI13: 0 | BM13: 0 | BO13: =SUM(AU13+BE13+BG13+BI13-BM13) -> 75761874 | BY13: =SUM(BB13+BP13+BS13+BV13) -> 183
A14: UNIDAD ADMINISTRATIVA ESPECIAL MIGRACIÓN COLOMBIA | B14: 900477235-6 | C14: Secop II | D14: 7 | E14: Dayanna Prieto Villalba | F14: 20232121413000001E | G14: Enero | H14: 44938 | I14: PCD-001-2023-1P | J14: N/A | K14: N/A | L14: PRESTACIÓN DE SERVICIOS PROFESIONALES CON AUTONOMÍA TÉCNICA Y ADMINISTRATIVA EN A LA OFICINA ASESORA DE PLANEACIÓN EN TEMAS DE DIRECCIONAMIENTO Y PLANEACIÓN ESTRATÉGICA EN EL MARCO DEL PLAN NACIONAL DE DESARROLLO, POLÍTICAS PÚBLICAS Y POLÍTICAS DE GESTIÓN INSTITUCIONAL. | M14: Contratación Directa | N14: Prestación de Servicios Profesionales | O14: Oficina Asesora de Planeación | P14: 80111600 | Q14: Servicios de personal temporal | R14: 57500000 | S14: 57500000 | T14: 12223 | U14: C-1199-1002-11-0-1199060-02 | V14: Celebrado | W14: En ejecución | X14: N/A | Y14: CO-002-2023 | Z14: 44939 | AA14: Prestación de Servicios Profesionales | AB14: N/A | AC14: Nivel Central | AD14: Bogotá D.C. | AE14: ANA MARIA OCHOA TABARES | AF14: 52528201 | AG14: - | AH14: N/A | AI14: INGENIERIA INDUSTRIAL | AJ14: NO | AK14: No es mipyme | AL14: N/A | AM14: 29041 | AN14: =+YEAR(TODAY())-YEAR('Contratación 2023'!$AM8) -> 53 | AO14: 15323 | AP14: 44942 | AQ14: 57500000 | AR14: 0 | AS14: 0 | AT14: 0 | AU14: =SUM(AQ14+AR14+AS14+AT14) -> 57500000 | AV14: Si | AW14: 44939 | AX14: Cumplimiento | AY14: 44942 | AZ14: Enero | BA14: 45291 | BB14: =(BA14-AY14) -> 349 | BC14: LEONARDO CARVAJAL HERNANDEZ | BD14: 79513293 | BE14: 0 | BG14: 0 | BI14: 0 | BM14: 0 | BO14: =SUM(AU14+BE14+BG14+BI14-BM14) -> 57500000 | BY14: =SUM(BB14+BP14+BS14+BV14) -> 349
A15: UNIDAD ADMINISTRATIVA ESPECIAL MIGRACIÓN COLOMBIA | B15: 900477235-6 | C15: Secop II | D15: 8 | E15: Dayanna Prieto Villalba | F15: 20232121413000006E | G15: Enero | H15: 44951 | I15: PCD-054-2023-2P | J15: N/A | K15: N/A | L15: PRESTACIÓN DE SERVICIOS PROFESIONALES CON AUTONOMÍA TÉCNICA Y ADMINISTRATIVA PARA LA OFICINA ASESORA DE PLANEACIÓN EN TEMAS DE MEJORA CONTINUA Y SISTEMA INTEGRADO DE GESTIÓN. | M15: Contratación Directa | N15: Prestación de Servicios Profesionales | O15: Oficina Asesora de Planeación | P15: 801615;80121704;80101605;81102702 | Q15: Servicios de apoyo gerencial - Servicios legales sobre contratos - Servicios temporales de redacción - Servicio de ingeniería y diseño para sistemas de control de procesos | R15: 55000000 | S15: 55000000 | T15: 13823 | U15: C-1199-1002-11-0-1199060-02 | V15: Celebrado | W15: En ejecución | X15: N/A | Y15: CO-051-2023 | Z15: 44956 | AA15: Prestación de Servicios Profesionales | AB15: N/A | AC15: Nivel Central | AD15: Bogotá D.C. | AE15: HENRY SANTIAGO GUILLEN CABRERA | AF15: 1016072632 | AG15: - | AH15: N/A | AI15: INGENIERIA INDUSTRIAL | AJ15: NO | AK15: No es mipyme | AL15: N/A | AM15: 34693 | AN15: =+YEAR(TODAY())-YEAR('Contratación 2023'!$AM9) -> 26 | AO15: 31123 | AP15: 44957 | AQ15: 55000000 | AR15: 0 | AS15: 0 | AT15: 0 | AU15: =SUM(AQ15+AR15+AS15+AT15) -> 55000000 | AV15: Si | AW15: 44956 | AX15: Cumplimiento | AY15: 44958 | AZ15: Enero | BA15: 45291 | BB15: =(BA15-AY15) -> 333 | BC15: MAGDA LILIANA VILLANUEVA | BD15: 63536875 | BE15: 0 | BG15: 0 | BI15: 0 | BM15: 0 | BO15: =SUM(AU15+BE15+BG15+BI15-BM15) -> 55000000 | BY15: =SUM(BB15+BP15+BS15+BV15) -> 333
A16: UNIDAD ADMINISTRATIVA ESPECIAL MIGRACIÓN COLOMBIA | B16: 900477235-6 | C16: TVEC | D16: 127 | E16: Belisa Amparo Oviedo Diaz | F16: 20236211410000016E | G16: Abril | H16: 45037 | I16: 149238 | J16: 45027 | K16: 148368 | L16: R2 CONTRATAR EL SERVICIO INTEGRAL DE ASEO Y CAFETERÍA REGIÓN 2 (CARIBE) | M16: Selección abreviada | N16: Acuerdo Marco de Precios | O16: Subdirección Administrativa y Financiera | P16: 76111501 | Q16: Servicios de limpieza y mantenimiento de edificios generales y de oficinas | R16: 1.8947923e+08 | S16: 1.8947923e+08 | T16: 28623 | U16: A-02-02-02-006-003 | V16: Celebrado | W16: En ejecución | X16: N/A | Y16: 108707 | Z16: 45045 | AA16: Prestación de Servicios de apoyo a la Gestión | AB16: N/A | AC16: Regional Atántico | AD16: Cartagena | AE16: UT ECOLIMPIEZA 4G | AF16: 901676833 | AG16: 8 | AH16: ECO SERVIR SAS/ ECO CATERING SAS | AI16: N/A | AJ16: SI | AK16: N/A | AL16: UT | AM16: N/A | AN16: N/A | AO16: 79523 | AP16: 45048 | AQ16: 1.7978419e+08 | AR16: 0 | AS16: 0 | AT16: 0 | AU16: =SUM(AQ16+AR16+AS16+AT16) -> 1.7978419e+08 | AV16: Si | AW16: 45050 | AX16: Cumplimiento | AY16: 45050 | AZ16: Abril | BA16: 45291 | BB16: =(BA16-AY16) -> 241 | BC16: ALABA ATENCIA ANGELA MARLENE | BD16: 9295583 | BE16: 7731652.8 | BF16: 45253 | BG16: 80703777 | BH16: 45287 | BI16: 0 | BM16: 0 | BO16: =SUM(AU16+BE16+BG16+BI16-BM16) -> 2.6821962e+08 | BP16: =(BQ16-BA16) -> 87 | BQ16: 45378 | BR16: 45287 | BY16: =SUM(BB16+BP16+BS16+BV16) -> 328
A17: UNIDAD ADMINISTRATIVA ESPECIAL MIGRACIÓN COLOMBIA | B17: 900477235-6 | C17: TVEC | D17: 128 | E17: Belisa Amparo Oviedo Diaz | F17: 20236211410000015E | G17: Abril | H17: 45013 | I17: 148177 | J17: 45026 | K17: 147477 | L17: R11 CONTRATAR EL SERVICIO INTEGRAL DE ASEO Y CAFETERIA REGION 11: SEDE 1: CFSM CALLE 100 REGIONAL ANDINA, SEDE 2: PCM AEROPUERTO INTERNACIONAL EL DORADO, SEDE 3: SEDE NIVEL CENTRAL EDIFICIO ARGOS, SEDE 4: CB NORMANDÍA DE LA UAEMC. | M17: Selección abreviada | N17: Acuerdo Marco de Precios | O17: Subdirección Administrativa y Financiera | P17: 76111501 | Q17: Servicios de limpieza y mantenimiento de edificios generales y de oficinas | R17: 406829087 | S17: 406829087 | T17: 28623 | U17: A-02-02-02-006-003 | V17: Celebrado | W17: En ejecución | X17: N/A | Y17: 108112 | Z17: 45036 | AA17: Prestación de Servicios de apoyo a la Gestión | AB17: N/A | AC17: Nivel Central | AD17: Bogotá D.C. | AE17: UT OUTSOURCING GIAF | AF17: 901677020 | AG17: 1 | AH17: GESTIÓN INTEGRAL DE ACTIVOS FIJOS SAS / la Empresa MCD Y CIA SAS | AI17: N/A | AJ17: NO | AK17: N/A | AL17: UT | AM17: N/A | AN17: N/A | AO17: 74923 | AP17: 45037 | AQ17: 3.3957289e+08 | AR17: 0 | AS17: 0 | AT17: 0 | AU17: =SUM(AQ17+AR17+AS17+AT17) -> 339572893 | AV17: Si | AW17: 45041 | AX17: Cumplimiento | AY17: 45036 | AZ17: Abril | BA17: 45291 | BB17: =(BA17-AY17) -> 255 | BC17: JOHANA OVIEDO MOLANO | BD17: 52199365 | BE17: 14294548 | BF17: 45232 | BG17: 1701051.3 | BH17: 45237 | BI17: 1.5202646e+08 | BJ17: 45279 | BK17: 1734802.7 | BL17: 45287 | BM17: 0 | BO17: =SUM(AU17+BE17+BG17+BI17-BM17+BK17) -> 5.0932976e+08 | BP17: =(BQ17-BA17) -> 105 | BQ17: 45396 | BR17: 45279 | BY17: =SUM(BB17+BP17+BS17+BV17) -> 360
A18: UNIDAD ADMINISTRATIVA ESPECIAL MIGRACIÓN COLOMBIA | B18: 900477235-6 | C18: TVEC | D18: 134 | E18: Belisa Amparo Oviedo Diaz | F18: 20236211410000018E | G18: Abril | H18: 45044 | I18: 149013 | J18: 45036 | K18: 149752 | L18: R6 CONTRATAR EL SERVICIO INTEGRAL DE ASEO Y CAFETERIA REGION 6 (NARIÑO) | M18: Selección abreviada | N18: Acuerdo Marco de Precios | O18: Subdirección Administrativa y Financiera | P18: 76111501 | Q18: Servicios de limpieza y mantenimiento de edificios generales y de oficinas | R18: 1.5745771e+08 | S18: 1.5745771e+08 | T18: 28623 | U18: A-02-02-02-006-003 | V18: Celebrado | W18: En ejecución | X18: N/A | Y18: 109410 | Z18: 45058 | AA18: Prestación de Servicios de apoyo a la Gestión | AB18: N/A | AC18: Regional Occidente | AD18: Pasto | AE18: UNION TEMPORAL R&J 2022 | AF18: 901677477 | AG18: 7 | AH18: REPRESENTACIONES D JESCA S.A.S y la Empresa R&G SOLUTION GROUP S.A.S | AI18: N/A | AJ18: NO | AK18: N/A | AL18: UT | AM18: N/A | AN18: N/A | AO18: 87523 | AP18: 45061 | AQ18: 1.4873471e+08 | AR18: 0 | AS18: 0 | AT18: 0 | AU18: 1.4873471e+08 | AV18: Si | AW18: 45064 | AX18: Cumplimiento | AY18: 45058 | AZ18: Mayo | BA18: 45291 | BB18: 233 | BC18: ANA MERCEDES FIGUEROA | BD18: 30738603 | BE18: 13880066 | BF18: 45252 | BG18: 60052675 | BH18: 45289 | BI18: 0 | BM18: 0 | BO18: =SUM(AU18+BE18+BG18+BI18-BM18+BK18) -> 2.2266745e+08 | BP18: =(BQ18-BA18) -> 75 | BQ18: 45366 | BR18: 45289 | BY18: =SUM(BB18+BP18+BS18+BV18) -> 308
A19: UNIDAD ADMINISTRATIVA ESPECIAL MIGRACIÓN COLOMBIA | B19: 900477235-6 | C19: TVEC | D19: 141 | E19: Belisa Amparo Oviedo Diaz | F19: 20236211410000006E | G19: Marzo | H19: 45009 | I19: 147265 | J19: 44998 | K19: 146165 | L19: R15 CONTRATAR EL SERVICIO INTEGRAL DE ASEO Y CAFETERIA PARA LAS SEDES DE: SEDE 1: CFSM ARAUCA, SEDE 2: PCM PUENTE INTERNACIONAL JOSÉ ANTONIO PÁEZ, REGION 15 DE LA UNIDAD ADMINISTRATIVA ESPECIAL MIGRACIÓN COLOMBIA. | M19: Selección abreviada | N19: Acuerdo Marco de Precios | O19: Subdirección Administrativa y Financiera | P19: 76111501 | Q19: Servicios de limpieza y mantenimiento de edificios generales y de oficinas | R19: 67610538 | S19: 67610538 | T19: 28623 | U19: A-02-02-02-006-003 | V19: Celebrado | W19: En ejecución | X19: N/A | Y19: 107283 | Z19: 45019 | AA19: Prestación de Servicios de apoyo a la Gestión | AB19: N/A | AC19: Regional Orinoquía | AD19: Arauca | AE19: CONSERJES INMOBILIARIOS | AF19: 800093388 | AG19: 2 | AH19: N/A | AI19: N/A | AJ19: NO | AK19: REGIMEN SIMPLIFICADO | AL19: N/A | AM19: N/A | AN19: N/A | AO19: 66423 | AP19: 45021 | AQ19: 67610538 | AR19: 0 | AS19: 0 | AT19: 0 | AU19: =SUM(AQ19+AR19+AS19+AT19) -> 67610538 | AV19: Si | AW19: 45020 | AX19: Cumplimiento | AY19: 45019 | AZ19: Abril | BA19: 45291 | BB19: =(BA19-AY19) -> 272 | BC19: ANDRES LEONARDO GEROMITO MUAJE | BD19: 1116805502 | BE19: 2931437.1 | BF19: 45250 | BG19: 30623047 | BH19: 45288 | BI19: 0 | BM19: 0 | BO19: =SUM(AU19+BG19-BM19+BE19) -> 1.0116502e+08 | BP19: =(BQ19-BA19) -> 91 | BQ19: 45382 | BR19: 45288 | BY19: =SUM(BB19+BP19+BS19+BV19) -> 363
A20: UNIDAD ADMINISTRATIVA ESPECIAL MIGRACIÓN COLOMBIA | B20: 900477235-6 | C20: TVEC | D20: 135 | E20: Belisa Amparo Oviedo Diaz | F20: 20236211410000022E | G20: Junio | H20: 45082 | I20: 152536 | J20: 45082 | K20: 192388 | L20: R9 CONTRATAR EL SERVICIO INTEGRAL DE ASEO Y CAFETERÍA REGIÓN 9 (ORIENTE) | M20: Selección abreviada | N20: Acuerdo Marco de Precios | O20: Subdirección Administrativa y Financiera | P20: 76111501 | Q20: Servicios de limpieza y mantenimiento de edificios generales y de oficinas | R20: 86956519 | S20: 86956519 | T20: 28623 | U20: A-02-02-02-006-003 | V20: Celebrado | W20: En ejecución | X20: N/A | Y20: 112687 | Z20: 45113 | AA20: Prestación de Servicios de apoyo a la Gestión | AB20: N/A | AC20: Regional Oriente | AD20: Cucuta | AE20: UNIÓN TEMPORAL OUTSOURCING GIAF | AF20: 901677020 | AG20: 1 | AH20: GESTIÓN INTEGRAL DE ACTIVOS FIJOS SAS / la Empresa MCD Y CIA SAS | AI20: N/A | AJ20: SI | AK20: N/A | AL20: UT | AM20: N/A | AN20: N/A | AO20: 121923 | AP20: 45114 | AQ20: 82284885 | AR20: 0 | AS20: 0 | AT20: 0 | AU20: 82284885 | AV20: Si | AW20: 45114 | AX20: Cumplimiento | AY20: 44999 | AZ20: Julio | BA20: 45291 | BB20: =(BA20-AY20) -> 292 | BC20: SERGIO ANDRES BLANCO | BD20: 88264550 | BE20: 6405646.1 | BF20: 45260 | BG20: 37752738 | BH20: 45288 | BI20: 0 | BM20: 3360214.1 | BN20: 45289 | BO20: =SUM(AU20+BG20-BM20+BE20) -> 1.2308306e+08 | BP20: =(BQ20-BA20) -> 70 | BQ20: 45361 | BR20: 45288 | BY20: =SUM(BB20+BP20+BS20+BV20) -> 362
A21: UNIDAD ADMINISTRATIVA ESPECIAL MIGRACIÓN COLOMBIA | B21: 900477235-6 | C21: TVEC | D21: 137 | E21: Belisa Amparo Oviedo Diaz | F21: 20236211410000013E | G21: Marzo | H21: 45027 | I21: 148274 | J21: 45009 | K21: 147290 | L21: R7 CONTRATAR EL SERVICIO INTEGRAL DE ASEO Y CAFETERIA PARA LAS SEDES: NEIVA, IBAGUÉ Y PUERTO LEGUIZAMO, REGION 7 DE LA UNIDAD ADMINISTRATIVA ESPECIAL MIGRACIÓN COLOMBIA | M21: Selección abreviada | N21: Acuerdo Marco de Precios | O21: Subdirección Administrativa y Financiera | P21: 76111501 | Q21: Servicios de limpieza y mantenimiento de edificios generales y de oficinas | R21: 72412041 | S21: 72412041 | T21: 28623 | U21: A-02-02-02-006-003 | V21: Celebrado | W21: En ejecución | X21: N/A | Y21: 108012 | Z21: 45035 | AA21: Prestación de Servicios de apoyo a la Gestión | AB21: N/A | AC21: Regional Andina | AD21: Neiva | AE21: INTERNEGOCIOS SAS | AF21: 900240753 | AG21: 1 | AH21: N/A | AI21: N/A | AJ21: SI | AK21: REGIMEN SIMPLIFICADO | AM21: N/A | AN21: N/A | AO21: 73523 | AP21: 45036 | AQ21: 66859366 | AR21: 0 | AS21: 0 | AT21: 0 | AU21: =SUM(AQ21+AR21+AS21+AT21) -> 66859366 | AV21: Si | AW21: 45041 | AX21: Cumplimiento | AY21: 45035 | AZ21: Abril | BA21: 45291 | BB21: =(BA21-AY21) -> 256 | BC21: CARLOS ALBERTO ARCHILA | BD21: 79448817 | BE21: 33260930 | BF21: 45279 | BG21: 0 | BI21: 0 | BM21: 0 | BO21: =SUM(AU21+BE21+BG21+BI21-BM21) -> 1.001203e+08 | BP21: =(BQ21-BA21) -> 124 | BQ21: 45415 | BR21: 45279 | BY21: =SUM(BB21+BP21+BS21+BV21) -> 380
A22: UNIDAD ADMINISTRATIVA ESPECIAL MIGRACIÓN COLOMBIA | B22: 900477235-6 | C22: TVEC | D22: 129 | E22: Belisa Amparo Oviedo Diaz | F22: 20236211410000009E | G22: Marzo | H22: 45009 | I22: 146546 | J22: 45000 | K22: 147273 | L22: R5 CONTRATAR EL SERVICIO INTEGRAL DE ASEO Y CAFETERIA PARA LAS SEDES DE POPAYÁN, BUENAVENTURA, CALI Y PALMIRA REGION 5 DE LA UNIDAD ADMINISTRATIVA ESPECIAL MIGRACIÓN COLOMBIA | M22: Selección abreviada | N22: Acuerdo Marco de Precios | O22: Subdirección Administrativa y Financiera | P22: 76111501 | Q22: Servicios de limpieza y mantenimiento de edificios generales y de oficinas | R22: 119925811 | S22: 119925811 | T22: 28623 | U22: A-02-02-02-006-003 | V22: Celebrado | W22: En ejecución | X22: N/A | Y22: 107318 | Z22: 45020 | AA22: Prestación de Servicios de apoyo a la Gestión | AB22: N/A | AC22: Regional Occidente | AD22: Cali | AE22: INTERNEGOCIOS SAS | AF22: 900240753 | AG22: 1 | AH22: N/A | AI22: N/A | AJ22: NO | AK22: REGIMEN SIMPLIFICADO | AL22: SOCIEDAD POR ACCIONES SIMPLIFICADA | AM22: N/A | AN22: N/A | AO22: 66723 | AP22: 45021 | AQ22: 1.1318003e+08 | AR22: 0 | AS22: 0 | AT22: 0 | AU22: =SUM(AQ22+AR22+AS22+AT22) -> 113180028 | AV22: Si | AW22: 45036 | AX22: Cumplimiento | AY22: 45092 | AZ22: Abril | BA22: 45291 | BB22: =(BA22-AY22) -> 199 | BC22: AIDA LORENA TELLO | BD22: 27082113 | BE22: 1723489.6 | BF22: 45287 | BG22: 54484934 | BH22: 45288 | BI22: 0 | BM22: 0 | BO22: =SUM(AU22+BE22+BG22) -> 1.6938845e+08 | BP22: =(BQ22-BA22) -> 122 | BQ22: 45413 | BR22: 45287 | BY22: =SUM(BB22+BP22+BS22+BV22) -> 321
A23: UNIDAD ADMINISTRATIVA ESPECIAL MIGRACIÓN COLOMBIA | B23: 900477235-6 | C23: TVEC | D23: 130 | E23: Belisa Amparo Oviedo Diaz | F23: 20236211410000014E | G23: Abril | H23: 45009 | I23: 148295 | J23: 45027 | K23: 147157 | L23: R8 CONTRATAR EL SERVICIO INTEGRAL DE ASEO Y CAFETERÍA PARA LAS SEDES TUNJA Y YOPAL REGIÓN 8 DE LA UNIDAD ADMINISTRATIVA ESPECIAL MIGRACIÓN COLOMBIA | M23: Selección abreviada | N23: Acuerdo Marco de Precios | O23: Subdirección Administrativa y Financiera | P23: 76111501 | Q23: Servicios de limpieza y mantenimiento de edificios generales y de oficinas | R23: 32196200 | S23: 32196200 | T23: 28623 | U23: A-02-02-02-006-003 | V23: Celebrado | W23: En ejecución | X23: N/A | Y23: 108011 | Z23: 45035 | AA23: Prestación de Servicios de apoyo a la Gestión | AB23: N/A | AC23: Regional Andina | AD23: Tunja | AE23: UT ASEAMOS 2022 A4 | AF23: 901676927 | AG23: 1 | AH23: PAULO CESAR CARVAJAL LARA Y/O PRODUCTOS INSTITUCIONALES y la Empresa ASEAMOS INSTITUCIONAL SAS | AI23: N/A | AJ23: NO | AK23: N/A | AL23: UT | AM23: N/A | AN23: N/A | AO23: 73623 | AP23: 45036 | AQ23: 29011981 | AR23: 0 | AS23: 0 | AT23: 0 | AU23: =SUM(AQ23+AR23+AS23+AT23) -> 29011981 | AV23: Si | AW23: 45041 | AX23: Cumplimiento | AY23: 45035 | AZ23: Abril | BA23: 45291 | BB23: =(BA23-AY23) -> 256 | BC23: CARLOS ALBERTO ARCHILA | BD23: 79448817 | BE23: 14472635 | BF23: 45280 | BG23: 14042.09 | BH23: 45287 | BI23: 0 | BM23: 0 | BO23: =SUM(AU23+BE23+BG23) -> 43498658 | BP23: =(BQ23-BA23) -> 116 | BQ23: 45407 | BR23: 45287 | BY23: =SUM(BB23+BP23+BS23+BV23) -> 372
A24: UNIDAD ADMINISTRATIVA ESPECIAL MIGRACIÓN COLOMBIA | B24: 900477235-6 | C24: TVEC | D24: 131 | E24: Belisa Amparo Oviedo Diaz | F24: 20236211410000003E | G24: Marzo | H24: 45009 | I24: 147269 | J24: 44998 | K24: 146169 | L24: R10 CONTRATAR EL SERVICIO INTEGRAL DE ASEO Y CAFETERÍA PARA LA SEDE DE VILLAVICENCIO REGIÓN 10 DE LA UNIDAD ADMINISTRATIVA ESPECIAL MIGRACIÓN COLOMBIA | M24: Selección abreviada | N24: Acuerdo Marco de Precios | O24: Subdirección Administrativa y Financiera | P24: 76111501 | Q24: Servicios de limpieza y mantenimiento de edificios generales y de oficinas | R24: 24527659 | S24: 24527659 | T24: 28623 | U24: A-02-02-02-006-003 | V24: Celebrado | W24: En ejecución | X24: N/A | Y24: 107282 | Z24: 45019 | AA24: Prestación de Servicios de apoyo a la Gestión | AB24: N/A | AC24: Regional Occidente | AD24: Villavicencio | AE24: UNION TEMPORAL SERTOP | AF24: 901677370 | AG24: 4 | AH24: TOP ECO CLEANING SAS y la Empresa COOPERATIVA DE TRABAJO ASOCIADO SERCONAL | AI24: N/A | AJ24: NO | AK24: N/A | AL24: UT | AM24: N/A | AN24: N/A | AO24: 66623 | AP24: 45021 | AQ24: 23525852 | AR24: 0 | AS24: 0 | AT24: 0 | AU24: =SUM(AQ24+AR24+AS24+AT24) -> 23525852 | AV24: Si | AW24: 45030 | AX24: Cumplimiento | AY24: 45019 | AZ24: Enero | BA24: 45291 | BB24: =(BA24-AY24) -> 272 | BC24: MIGUEL ANGEL LUNA CASTRO | BD24: 17586972 | BG24: 8626145.9 | BH24: 45287 | BI24: 0 | BM24: 0 | BO24: =SUM(AU24+BE24+BG24) -> 32151998 | BP24: =(BQ24-BA24) -> 91 | BQ24: 45382 | BR24: 45287 | BY24: =SUM(BB24+BP24+BS24+BV24) -> 363
A25: UNIDAD ADMINISTRATIVA ESPECIAL MIGRACIÓN COLOMBIA | B25: 900477235-6 | C25: Secop II | D25: 21 | E25: Dayanna Prieto Villalba | F25: 20232241413000002E | G25: Enero | H25: 44944 | I25: PCD-037-2023-1J | J25: N/A | K25: N/A | L25: PRESTACION DE SERVICIOS PROFESIONALES CON AUTONOMÍA TÉCNICA Y ADMINISTRATIVA PARA APOYAR LA GESTIÓN DEL GRUPO DE DEFENSA JUDICIAL, EXTRAJUDICIAL Y VÍA ADMINISTRATIVA DE LA OFICINA ASESORA JURÍDICA DE MIGRACIÓN COLOMBIA DE ACUERDO CON LAS CONDICIONES SEÑALADAS Y ESPECIFICACIONES TÉCNICAS DESCRITAS EN LOS ESTUDIOS PREVIOS. | M25: Contratación Directa | N25: Prestación de Servicios Profesionales | O25: Oficina Asesora Jurídica | P25: 81101508;80161500;80161504;80121704 | Q25: Ingeniería arquitectónica - Servicios de apoyo gerencial - Servicios de oficina - Servicios legales sobre contratos | R25: 70400000 | S25: 70400000 | T25: 10323 | U25: A-02-02-02-008-003 | V25: Celebrado | W25: En ejecución | X25: N/A | Y25: CO-029-2023 | Z25: 44945 | AA25: Prestación de Servicios Profesionales | AB25: N/A | AC25: Nivel Central | AD25: Bogotá D.C. | AE25: ANA CONSTANZA POLANIA | AF25: 52258308 | AG25: - | AH25: N/A | AI25: ABOGADO | AJ25: NO | AK25: No es mipyme | AL25: N/A | AM25: 27505 | AN25: =+YEAR(TODAY())-YEAR('Contratación 2023'!$AM19) -> #VALUE! | AO25: 20423 | AP25: 44945 | AQ25: 70400000 | AR25: 0 | AS25: 0 | AT25: 0 | AU25: =SUM(AQ25+AR25+AS25+AT25) -> 70400000 | AV25: Si | AW25: 44945 | AX25: Cumplimiento | AY25: 44949 | AZ25: Enero | BA25: 45282 | BB25: =(BA25-AY25) -> 333 | BC25: CARLOS JULIO AVILA CORONEL | BD25: 79279880 | BE25: 0 | BG25: 0 | BI25: 0 | BM25: 0 | BO25: =SUM(AU25+BE25+BG25+BI25-BM25) -> 70400000 | BY25: =SUM(BB25+BP25+BS25+BV25) -> 333
A26: UNIDAD ADMINISTRATIVA ESPECIAL MIGRACIÓN COLOMBIA | B26: 900477235-6 | C26: TVEC | D26: 132 | E26: Belisa Amparo Oviedo Diaz | F26: 20236211410000002E | G26: Marzo | H26: 45012 | I26: 146167 | J26: 44998 | K26: 147267 | L26: R4 CONTRATAR EL SERVICIO INTEGRAL DE ASEO Y CAFETERIA PARA LA SEDE DE ARMENIA, PEREIRA, EL EDÉN (LA TEBAIDA) Y MANIZALES. REGION 4 DE LA UNIDAD ADMINISTRATIVA ESPECIAL MIGRACIÓN COLOMBIA | M26: Selección abreviada | N26: Acuerdo Marco de Precios | O26: Subdirección Administrativa y Financiera | P26: 76111501 | Q26: Servicios de limpieza y mantenimiento de edificios generales y de oficinas | R26: 90896788 | S26: 90896788 | T26: 28623 | U26: A-02-02-02-006-003 | V26: Celebrado | W26: En ejecución | X26: N/A | Y26: 108075 | Z26: 45036 | AA26: Prestación de Servicios de apoyo a la Gestión | AB26: N/A | AC26: Regional Eje Cafetero | AD26: Armenia | AE26: UNION TEMPORAL SERTOP | AF26: 901677370 | AG26: 4 | AH26: TOP ECO CLEANING SAS y la Empresa COOPERATIVA DE TRABAJO ASOCIADO SERCONAL | AI26: N/A | AJ26: NO | AK26: N/A | AL26: UT | AM26: N/A | AN26: N/A | AO26: 75023 | AP26: 45037 | AQ26: 87025363 | AR26: 0 | AS26: 0 | AT26: 0 | AU26: =SUM(AQ26+AR26+AS26+AT26) -> 87025363 | AV26: Si | AW26: 45036 | AX26: Cumplimiento | AY26: 45036 | AZ26: Abril | BA26: 45291 | BB26: =(BA26-AY26) -> 255 | BC26: ELISABETH USECHE MARIN | BD26: 25166983 | BE26: 43195579 | BF26: 45287 | BG26: 0 | BI26: 0 | BM26: 0 | BO26: =SUM(AU26+BE26+BG26+BI26-BM26) -> 1.3022094e+08 | BP26: =(BQ26-BA26) -> 123 | BQ26: 45414 | BR26: 45287 | BY26: =SUM(BB26+BP26+BS26+BV26) -> 378
A27: UNIDAD ADMINISTRATIVA ESPECIAL MIGRACIÓN COLOMBIA | B27: 900477235-6 | C27: TVEC | D27: 136 | E27: Belisa Amparo Oviedo Diaz | F27: 20236211410000007E | G27: Marzo | H27: 45009 | I27: 146540 | J27: 45000 | K27: 147271 | L27: R1 CONTRATAR EL SERVICIO INTEGRAL DE ASEO Y CAFETERIA PARA LAS SEDES DE: SANTA MARTA, RIOHACHA, MAICAO, VALLEDUPAR, Y PCM PARAGUACHON (MAICAO) REGION 1 DE LA UNIDAD ADMINISTRATIVA ESPECIAL MIGRACIÓN COLOMBIA | M27: Selección abreviada | N27: Acuerdo Marco de Precios | O27: Subdirección Administrativa y Financiera | P27: 76111501 | Q27: Servicios de limpieza y mantenimiento de edificios generales y de oficinas | R27: 175550532 | S27: 175550532 | T27: 28623 | U27: A-02-02-02-006-003 | V27: Celebrado | W27: En ejecución | X27: N/A | Y27: 108010 | Z27: 45035 | AA27: Prestación de Servicios de apoyo a la Gestión | AB27: N/A | AC27: Regional Atántico | AD27: Santa Martha | AE27: UNIÓN TEMPORAL OUTSOURCING GIAF | AF27: 901677020 | AG27: 1 | AH27: GESTIÓN INTEGRAL DE ACTIVOS FIJOS SAS / la Empresa MCD Y CIA SAS | AI27: N/A | AJ27: NO | AK27: N/A | AL27: UT | AM27: N/A | AN27: N/A | AO27: 73323 | AP27: 45035 | AQ27: 1.6925917e+08 | AR27: 0 | AS27: 0 | AT27: 0 | AU27: =SUM(AQ27+AR27+AS27+AT27) -> 1.6925917e+08 | AV27: Si | AW27: 21/04/202 | AX27: Cumplimiento | AY27: 45035 | AZ27: Abril | BA27: 45291 | BB27: =(BA27-AY27) -> 256 | BC27: HILAIS MILAGRO ARREDONDO | BD27: 1124064259 | BE27: 84287156 | BF27: 45282 | BG27: 0 | BI27: 0 | BM27: 0 | BO27: =SUM(AU27+BE27+BG27+BI27-BM27) -> 2.5354632e+08 | BP27: =(BQ27-BA27) -> 104 | BQ27: 45395 | BR27: 45282 | BY27: =SUM(BB27+BP27+BS27+BV27) -> 360
A28: UNIDAD ADMINISTRATIVA ESPECIAL MIGRACIÓN COLOMBIA | B28: 900477235-6 | C28: Secop II | D28: 24 | E28: Cesar Augusto Mejia Carrillo | F28: 20232241413000004E | G28: Enero | H28: 44953 | I28: PCD-055-2023-4J | J28: N/A | K28: N/A | L28: PRESTACION DE SERVICIOS DE APOYO A LA GESTIÓN CON AUTONOMÍA TÉCNICA Y ADMINISTRATIVA PARA APOYAR AL GRUPO DE DEFENSA JUDICIAL, EXTRAJUDICIAL Y VÍA ADMINISTRATIVA DE LA OFICINA ASESORA JURÍDICA DE MIGRACIÓN COLOMBIA DE ACUERDO CON LAS CONDICIONES SEÑALADAS Y ESPECIFICACIONES TÉCNICAS DESCRITAS EN LOS ESTUDIOS PREVIOS | M28: Contratación Directa | N28: Prestación de Servicios de Apoyo a la Gestión | O28: Oficina Asesora Jurídica | P28: 80161504 | Q28: Servicios de Gestión, Servicios Profesionales de Empresa y Servicios Administrativos- Servicios de Administración de Empresas- Servicios de Apoyo Gerencial- Servicios de oficina | R28: 30800000 | S28: 30800000 | T28: 15523 | U28: A-02-02-02-008-003 | V28: Celebrado | W28: En ejecución | X28: N/A | Y28: CO-048-2023 | Z28: 44957 | AA28: Prestación de Servicios de apoyo a la Gestión | AB28: N/A | AC28: Nivel Central | AD28: Bogotá D.C. | AE28: NUBIA AMPARO RODRIGUEZ MORENO | AF28: 51977370 | AG28: - | AH28: N/A | AI28: ABOGADO | AJ28: NO | AK28: No es mipyme | AL28: N/A | AM28: 25536 | AN28: =+YEAR(TODAY())-YEAR('Contratación 2023'!$AM19) -> #VALUE! | AO28: 30523 | AP28: 44956 | AQ28: 30800000 | AR28: 0 | AS28: 0 | AT28: 0 | AU28: =SUM(AQ28+AR28+AS28+AT28) -> 30800000 | AV28: Si | AW28: 44956 | AX28: Cumplimiento | AY28: 44957 | AZ28: Enero | BA28: 45291 | BB28: =(BA28-AY28) -> 334 | BC28: CARLOS JULIO AVILA CORONEL | BD28: 79279880 | BE28: 0 | BG28: 0 | BI28: 0 | BM28: 0 | BO28: =SUM(AU28+BE28+BG28+BI28-BM28) -> 30800000 | BY28: =SUM(BB28+BP28+BS28+BV28) -> 334
A29: UNIDAD ADMINISTRATIVA ESPECIAL MIGRACIÓN COLOMBIA | B29: 900477235-6 | C29: TVEC | D29: 139 | E29: Belisa Amparo Oviedo Diaz | F29: 20236211410000005E | G29: Marzo | H29: 45009 | I29: 147158 | J29: 44998 | K29: 146163 | L29: R13 CONTRATAR EL SERVICIO INTEGRAL DE ASEO Y CAFETERIA PARA LAS SEDES DE: SEDE 1: CFSM LETICIA, SEDE 2: PCMA AEROPUERTO INTERNACIONAL ALFREDO VASQUEZ COBO, SEDE 3: PCM BALSA MIGRATORIA LETICIA, REGION 13 DE LA UNIDAD ADMINISTRATIVA ESPECIAL MIGRACIÓN COLOMBIA. | M29: Selección abreviada | N29: Acuerdo Marco de Precios | O29: Subdirección Administrativa y Financiera | P29: 76111501 | Q29: Servicios de limpieza y mantenimiento de edificios generales y de oficinas | R29: 78950587 | S29: 78950587 | T29: 28623 | U29: A-02-02-02-006-003 | V29: Celebrado | W29: En ejecución | X29: N/A | Y29: 107284 | Z29: 45019 | AA29: Prestación de Servicios de apoyo a la Gestión | AB29: N/A | AC29: Regional Amazonas | AD29: Leticia | AE29: CONSERJES INMOBILIARIOS | AF29: 800093388 | AG29: 2 | AH29: N/A | AI29: N/A | AJ29: NO | AK29: N/A | AL29: REGIMEN SIMPLIFICADO | AM29: N/A | AN29: N/A | AO29: 66323 | AP29: 45021 | AQ29: 78950587 | AR29: 0 | AS29: 0 | AT29: 0 | AU29: =SUM(AQ29+AR29+AS29+AT29) -> 78950587 | AV29: Si | AW29: 45021 | AX29: Cumplimiento | AY29: 45019 | AZ29: Abril | BA29: 45291 | BB29: =(BA29-AY29) -> 272 | BC29: DIANA VICENTA CAMARGO | BD29: 41057375 | BE29: 39436097 | BF29: 45288 | BG29: 0 | BI29: 0 | BM29: 0 | BO29: =SUM(AU29+BE29+BG29+BI29-BM29) -> 1.1838668e+08 | BP29: =(BQ29-BA29) -> 107 | BQ29: 45398 | BR29: 45288 | BY29: =SUM(BB29+BP29+BS29+BV29) -> 379
A30: UNIDAD ADMINISTRATIVA ESPECIAL MIGRACIÓN COLOMBIA | B30: 900477235-6 | C30: Secop II | D30: 26 | E30: Cesar Augusto Mejia Carrillo | F30: 20232261413000001E | G30: Enero | H30: 44945 | I30: PCD-007-2023-7J | J30: N/A | K30: N/A | L30: CONTRATAR LA PRESTACION DE SERVICIOS PROFESIONALES CON AUTONOMÍA TÉCNICA Y ADMINISTRATIVA, PARA APOYAR LA GESTIÓN DEL GRUPO DE APOYO CONTRACTUAL DE LA OFICINA ASESORA JURÍDICA, DE ACUERDO CON LAS CONDICIONES SEÑALADAS Y ESPECIFICACIONES TÉCNICAS DESCRITAS EN LOS ESTUDIOS PREVIOS | M30: Contratación Directa | N30: Prestación de Servicios Profesionales | O30: Oficina Asesora Jurídica | P30: 80161504 | Q30: Servicios de Gestión, Servicios Profesionales de Empresa y Servicios Administrativos- Servicios de Administración de Empresas- Servicios de Apoyo Gerencial- Servicios de oficina | R30: 60000000 | S30: 60000000 | T30: 9923 | U30: A-02-02-02-008-003 | V30: Celebrado | W30: En ejecución | X30: N/A | Y30: CO-036-2023 | Z30: 44949 | AA30: Prestación de Servicios Profesionales | AB30: N/A | AC30: Nivel Central | AD30: Bogotá D.C. | AE30: RODRIGO ANDRES GARCIA | AF30: 1075243527 | AG30: - | AH30: N/A | AI30: ABOGADO | AJ30: NO | AK30: No es mipyme | AL30: N/A | AM30: N/A | AN30: N/A | AO30: 21623 | AP30: 44946 | AQ30: 60000000 | AR30: 0 | AS30: 0 | AT30: 0 | AU30: =SUM(AQ30+AR30+AS30+AT30) -> 60000000 | AV30: Si | AW30: 44945 | AX30: Cumplimiento | AY30: 44949 | AZ30: Enero | BA30: 45249 | BB30: =(BA30-AY30) -> 300 | BC30: CARLOS JULIO AVILA CORONEL | BD30: 79279880 | BE30: 8200000 | BF30: 45218 | BG30: 0 | BI30: 0 | BM30: 0 | BO30: =SUM(AU30+BE30+BG30+BI30-BM30) -> 68200000 | BP30: 41 | BQ30: 45290 | BY30: =SUM(BB30+BP30+BS30+BV30) -> 341
A31: UNIDAD ADMINISTRATIVA ESPECIAL MIGRACIÓN COLOMBIA | B31: 900477235-6 | C31: Secop II | D31: 27 | E31: Dayanna Prieto Villalba | F31: 20232261415000001E | G31: Febrero | H31: 44979 | I31: PCD-074-2023-9J | J31: N/A | K31: N/A | L31: CONTRATAR LA ADQUISICIÓN DE LA SUSCRIPCIÓN A UNA BIBLIOTECA JURÍDICA VIRTUAL, CON INSTALACIÓN DE SOFTWARE Y HERRAMIENTA DE CONSULTA DE INFORMACIÓN JURÍDICA, ASÍ COMO LA ACTUALIZACIÓN Y EL MANTENIMIENTO DEL NORMOGRAMA, CON COBERTURA NACIONAL Y COMPILACIÓN NORMATIVA PARA LA UNIDAD ADMINISTRATIVA ESPECIAL MIGRACIÓN COLOMBIA | M31: Contratación Directa | N31: Exclusividad | O31: Oficina Asesora Jurídica | P31: 55111515;82121802 | Q31: Audio cinta de material educacional - Servicios de publicaciones financiadas por el autor | R31: 36890000 | S31: 36890000 | T31: 22123 | U31: A-02-02-02-008-004 | V31: Celebrado | W31: En ejecución | X31: N/A | Y31: CO-084-2023 | Z31: 44994 | AA31: Suscripción | AB31: N/A | AC31: Nivel Central | AD31: Bogotá D.C. | AE31: AVANCE JURIDICO CASA EDITORIAL LTDA | AF31: 830041326 | AG31: 2 | AH31: N/A | AI31: N/A | AJ31: SI | AK31: Pequeña | AL31: Sociedad de Responsabilidad Limitada | AM31: N/A | AN31: N/A | AO31: 53123 | AP31: 44995 | AQ31: 36890000 | AR31: 0 | AS31: 0 | AT31: 0 | AU31: =SUM(AQ31+AR31+AS31+AT31) -> 36890000 | AV31: No | AW31: N/A | AX31: No aplica | AY31: 44995 | AZ31: Marzo | BA31: 45209 | BB31: =(BA31-AY31) -> 214 | BC31: CARLOS JULIO AVILA CORONEL | BD31: 79279880 | BE31: 0 | BG31: 0 | BI31: 0 | BM31: 0 | BO31: =SUM(AU31+BE31+BG31+BI31-BM31) -> 36890000 | BY31: =SUM(BB31+BP31+BS31+BV31) -> 214
A32: UNIDAD ADMINISTRATIVA ESPECIAL MIGRACIÓN COLOMBIA | B32: 900477235-6 | C32: Secop II | D32: 29 | E32: Cesar Augusto Mejia Carrillo | F32: 20232401413000003E | G32: Enero | H32: 44949 | I32: PCD-045-2023-1COM | J32: N/A | K32: N/A | L32: CONTRATAR LA PRESTACIÓN DE LOS SERVICIOS TÉCNICOS Y ADMINISTRATIVOS COMO APOYO A LA GESTIÓN DE LA OFICINA DE COMUNICACIONES Y SERVICIO AL CIUDADANO | M32: Contratación Directa | N32: Prestación de Servicios Profesionales | O32: Oficina de Comunicaciones | P32: 80-16-15-04 | Q32: Servicios de Gestión, Servicios Profesionales de Empresa y Servicios Administrativos- Servicios de Administración de Empresas- Servicios de Apoyo Gerencial- Servicios de oficina | R32: 47150000 | S32: 47150000 | T32: 13423 | U32: A-02-02-02-008-003 | V32: Celebrado | W32: En ejecución | X32: N/A | Y32: CO-043-2023 | Z32: 44950 | AA32: Prestación de Servicios Profesionales | AB32: N/A | AC32: Nivel Central | AD32: Bogotá D.C. | AE32: EDGAR AURELIO MATIZ MENJURA | AF32: 79727331 | AG32: - | AH32: N/A | AI32: TÉCNICO EN ELECTRÓNICA | AJ32: NO | AK32: No es mipyme | AL32: N/A | AM32: 28513 | AN32: =+YEAR(TODAY())-YEAR('Contratación 2023'!$AM23) -> #VALUE! | AO32: 24823 | AP32: 44950 | AQ32: 47150000 | AR32: 0 | AS32: 0 | AT32: 0 | AU32: =SUM(AQ32+AR32+AS32+AT32) -> 47150000 | AV32: Si | AW32: 44949 | AX32: Cumplimiento | AY32: 44950 | AZ32: Enero | BA32: 45291 | BB32: =(BA32-AY32) -> 341 | BC32: MARITZA ROCÍO SERRANO VILLAMIL | BD32: 393757630 | BE32: 0 | BG32: 0 | BI32: 0 | BM32: 0 | BO32: =SUM(AU32+BE32+BG32+BI32-BM32) -> 47150000 | BY32: =SUM(BB32+BP32+BS32+BV32) -> 341
A33: UNIDAD ADMINISTRATIVA ESPECIAL MIGRACIÓN COLOMBIA | B33: 900477235-6 | C33: Secop II | D33: 30 | E33: Alejandra María Arcos Medina | F33: 20232401413000004E | G33: Enero | H33: 44942 | I33: PCD-027-2023-2COM | J33: N/A | K33: N/A | L33: CONTRATAR LA PRESTACIÓN DE LOS SERVICIOS TÉCNICOS Y ADMINISTRATIVOS COMO APOYO A LA GESTIÓN DE LA OFICINA DE COMUNICACIONES PARA EL MANEJO DE LAS REDES SOCIALES DE LA ENTIDAD. | M33: Contratación Directa | N33: Prestación de Servicios de Apoyo a la Gestión | O33: Oficina de Comunicaciones | P33: 80161504 | Q33: Servicios de gestión, servicios profesionales de empresa y servicios administrativos | R33: 63250000 | S33: 63250000 | T33: 13523 | U33: A-02-02-02-008-003 | V33: Celebrado | W33: En ejecución | X33: N/A | Y33: CO-024-2023 | Z33: 44944 | AA33: Prestación de Servicios de apoyo a la Gestión | AB33: N/A | AC33: Nivel Central | AD33: Bogotá D.C. | AE33: JAVIER ENRIQUE GONZÁLEZ GONZÁLEZ | AF33: 79865008 | AG33: - | AH33: N/A | AI33: DISEÑO Y PRODUCCION DE TELEVISION | AJ33: NO | AK33: No es mipyme | AL33: N/A | AM33: 28250 | AN33: =+YEAR(TODAY())-YEAR('Contratación 2023'!$AM27) -> #VALUE! | AO33: 18723 | AP33: 44944 | AQ33: 63250000 | AR33: 0 | AS33: 0 | AT33: 0 | AU33: =SUM(AQ33+AR33+AS33+AT33) -> 63250000 | AV33: Si | AW33: 44944 | AX33: Cumplimiento | AY33: 44944 | AZ33: Enero | BA33: 45291 | BB33: =(BA33-AY33) -> 347 | BC33: MARITZA ROCÍO SERRANO VILLAMIL | BD33: 393757630 | BE33: 0 | BG33: 0 | BI33: 0 | BM33: 0 | BO33: =SUM(AU33+BE33+BG33+BI33-BM33) -> 63250000 | BY33: =SUM(BB33+BP33+BS33+BV33) -> 347
A34: UNIDAD ADMINISTRATIVA ESPECIAL MIGRACIÓN COLOMBIA | B34: 900477235-6 | C34: Secop II | D34: 31 | E34: Dayanna Prieto Villalba | F34: 20232401413000005E | G34: Enero | H34: 44944 | I34: PCD-038-2023-3COM | J34: N/A | K34: N/A | L34: PARTICIPAR, IMPLEMENTAR Y ACOMPAÑAR LA EJECUCIÓN DE LAS ACCIONES PLANEADAS POR LA OFICINA DE COMUNICACIONES Y SERVICIO PARA COMUNICACIÓN INTERNA DE MIGRACIÓN COLOMBIA EN DESARROLLO DE SU MISIONALIDAD Y DE ACUERDO CON LAS NECESIDADES DE LA ENTIDAD. | M34: Contratación Directa | N34: Prestación de Servicios Profesionales | O34: Oficina de Comunicaciones | P34: 80161504 | Q34: Servicios de oficina | R34: 69000000 | S34: 69000000 | T34: 13623 | U34: A-02-02-02-008-003 | V34: Celebrado | W34: En ejecución | X34: N/A | Y34: CO-028-2023 | Z34: 44945 | AA34: Prestación de Servicios Profesionales | AB34: N/A | AC34: Nivel Central | AD34: Bogotá D.C. | AE34: LUIS ALFONSO VIECCO ROSADO | AF34: 77172059 | AG34: - | AH34: N/A | AI34: COMUNICACIÓN SOCIAL | AJ34: NO | AK34: No es mipyme | AL34: N/A | AM34: 26694 | AN34: =+YEAR(TODAY())-YEAR('Contratación 2023'!$AM28) -> 55 | AO34: 20123 | AP34: 44945 | AQ34: 69000000 | AR34: 0 | AS34: 0 | AT34: 0 | AU34: =SUM(AQ34+AR34+AS34+AT34) -> 69000000 | AV34: Si | AW34: 44944 | AX34: Cumplimiento | AY34: 44945 | AZ34: Enero | BA34: 45291 | BB34: =(BA34-AY34) -> 346 | BC34: MARITZA ROCIO SERRANO VILLAMIL | BD34: 39757630 | BE34: 0 | BG34: 0 | BI34: 0 | BM34: 0 | BO34: =SUM(AU34+BE34+BG34+BI34-BM34) -> 69000000 | BY34: =SUM(BB34+BP34+BS34+BV34) -> 346
A35: UNIDAD ADMINISTRATIVA ESPECIAL MIGRACIÓN COLOMBIA | B35: 900477235-6 | C35: Secop II | D35: 32 | E35: Alejandra María Arcos Medina | F35: 20232401413000001E | G35: Enero | H35: 44939 | I35: PCD-018-2023-4COM | J35: N/A | K35: N/A | L35: CONTRATAR LA PRESTACIÓN DE LOS SERVICIOS PROFESIONALES PARA LA OFICINA DE COMUNICACIONES, REALIZANDO LA GENERACIÓN DE CONTENIDOS DIGITALES EXTERNOS, PRODUCCIÓN DE EVENTOS CON GOBIERNO, GENERACIÓN DE CONTENIDOS WEB Y DISEÑO DE CAMPAÑAS INSTITUCIONALES | M35: Contratación Directa | N35: Prestación de Servicios Profesionales | O35: Oficina de Comunicaciones | P35: 80161504 | Q35: Servicios de gestión, servicios profesionales de empresa y servicios administrativos | R35: 86250000 | S35: 86250000 | T35: 13923 | U35: A-02-02-02-008-003 | V35: Celebrado | W35: En ejecución | X35: N/A | Y35: CO-016-2023 | Z35: 44939 | AA35: Prestación de Servicios Profesionales | AB35: N/A | AC35: Nivel Central | AD35: Bogotá D.C. | AE35: WILLIAM ANDRES TELLEZ CHAVEZ | AF35: 91517570 | AG35: - | AH35: N/A | AI35: MERCADEO Y PUBLICIDAD | AJ35: NO | AK35: No es mipyme | AL35: N/A | AN35: =+YEAR(TODAY())-YEAR('Contratación 2023'!$AM29) -> #VALUE! | AO35: 15123 | AP35: 44942 | AQ35: 86250000 | AR35: 0 | AS35: 0 | AT35: 0 | AU35: =SUM(AQ35+AR35+AS35+AT35) -> 86250000 | AV35: Si | AW35: 44942 | AX35: Cumplimiento | AY35: 44942 | AZ35: Enero | BA35: 45291 | BB35: =(BA35-AY35) -> 349 | BC35: MARITZA ROCÍO SERRANO VILLAMIL | BD35: 393757630 | BE35: 0 | BG35: 0 | BI35: 0 | BM35: 0 | BO35: =SUM(AU35+BE35+BG35+BI35-BM35) -> 86250000 | BY35: =SUM(BB35+BP35+BS35+BV35) -> 349
A36: UNIDAD ADMINISTRATIVA ESPECIAL MIGRACIÓN COLOMBIA | B36: 900477235-6 | C36: Secop II | D36: 33 | E36: Cesar Augusto Mejia Carrillo | F36: 20232401413000002E | G36: Enero | H36: 44949 | I36: PCD-041-2023-5COM | J36: N/A | K36: N/A | L36: CONTRATAR LA PRESTACIÓN DE LOS SERVICIOS PROFESIONALES PARA LA OFICINA DE COMUNICACIONES COMO APOYO A LA GESTIÓN Y PRODUCCIÓN CON LOS MEDIOS MASIVOS DE COMUNICACIÓN | M36: Contratación Directa | N36: Prestación de Servicios Profesionales | O36: Oficina de Comunicaciones | P36: 80-16-15-05 | Q36: Servicios de Gestión, Servicios Profesionales de Empresa y Servicios Administrativos- Servicios de Administración de Empresas- Servicios de Apoyo Gerencial- Servicios de oficina | R36: 77000000 | S36: 77000000 | T36: 12523 | U36: A-02-02-02-008-003 | V36: Celebrado | W36: En ejecución | X36: N/A | Y36: CO-045-2023 | Z36: 44952 | AA36: Prestación de Servicios Profesionales | AB36: N/A | AC36: Nivel Central | AD36: Bogotá D.C. | AE36: MÓNICA VICTORIA MANCERA CARRERO | AF36: 52515581 | AG36: - | AH36: N/A | AI36: COMUNICACIÓN SOCIAL | AJ36: NO | AK36: No es mipyme | AL36: N/A | AM36: N/A | AN36: N/A | AO36: 24723 | AP36: 44950 | AQ36: 77000000 | AR36: 0 | AS36: 0 | AT36: 0 | AU36: =SUM(AQ36+AR36+AS36+AT36) -> 77000000 | AV36: Si | AW36: 44950 | AX36: Cumplimiento | AY36: 44952 | AZ36: Enero | BA36: 45285 | BB36: =(BA36-AY36) -> 333 | BC36: MARITZA ROCÍO SERRANO VILLAMIL | BD36: 393757630 | BE36: 1166667 | BF36: 45247 | BG36: 0 | BI36: 0 | BM36: 0 | BO36: =SUM(AU36+BE36+BG36+BI36-BM36) -> 78166667 | BP36: 6 | BQ36: 45291 | BR36: 45247 | BY36: =SUM(BB36+BP36+BS36+BV36) -> 339
A37: UNIDAD ADMINISTRATIVA ESPECIAL MIGRACIÓN COLOMBIA | B37: 900477235-6 | C37: Secop II | D37: 34 | E37: Alejandra María Arcos Medina | F37: 20236231408000004E | G37: Marzo | H37: 45016 | I37: SAMC-004-2023 | J37: N/A | K37: N/A | L37: CONTRATAR EL SERVICIO DE MONITOREO DE MEDIOS MASIVOS DE COMUNICACION | M37: Selección abreviada | N37: Menor Cuantia | O37: Oficina de Comunicaciones | P37: 82111902 | Q37: Servicios de boletines informativos de interés especial | R37: 70000000 | S37: 50677075 | T37: 22923 | U37: A-02-02-02-008-003 | V37: Cancelado | W37: Cancelado | X37: N/A | Y37: N/A | Z37: N/A | AA37: N/A | AB37: N/A | AC37: N/A | AD37: N/A | AE37: N/A | AF37: N/A | AG37: - | AH37: N/A | AI37: N/A | AJ37: N/A | AK37: N/A | AL37: N/A | AM37: N/A | AN37: N/A | AO37: N/A | AP37: N/A | AQ37: N/A | AR37: N/A | AS37: N/A | AT37: N/A | AU37: N/A | AV37: N/A | AW37: N/A | AX37: N/A | AY37: N/A | AZ37: N/A | BA37: N/A | BB37: N/A | BC37: N/A | BD37: N/A | BE37: 0 | BG37: 0 | BI37: 0 | BM37: 0 | BO37: =SUM(AU37+BE37+BG37+BI37-BM37) -> #VALUE! | BY37: =SUM(BB37+BP37+BS37+BV37) -> #VALUE!
A38: UNIDAD ADMINISTRATIVA ESPECIAL MIGRACIÓN COLOMBIA | B38: 900477235-6 | C38: Secop II | D38: 35 | E38: Dayanna Prieto Villalba | F38: 20236231415000007E | G38: Febrero | H38: 44985 | I38: PCD-081-2023-9COM | J38: N/A | K38: N/A | L38: CONTRATAR LA PUBLICACIÓN DE DIFERENTES AVISOS DE PRENSA EN EL PERIÓDICO LA REPÚBLICA, DE ACUERDO A LAS NECESIDADES REQUERIDAS POR LA ENTIDAD. | M38: Contratación Directa | N38: Exclusividad | O38: Oficina de Comunicaciones | P38: 82121506 | Q38: Impresión de publicaciones | R38: 5000000 | S38: 5000000 | T38: 24823 | U38: A-02-02-02-008-003 | V38: Celebrado | W38: En ejecución | X38: N/A | Y38: CO-104-2023 | Z38: 45002 | AA38: Prestación de Servicios Profesionales | AB38: N/A | AC38: Nivel Central | AD38: Bogotá D.C. | AE38: EDITORIAL LA REPUBLICA SAS | AF38: 901017183 | AG38: 2 | AH38: N/A | AI38: N/A | AJ38: NO | AK38: No es mipyme | AL38: Sociedad por acciones simplificadas | AM38: N/A | AN38: N/A | AO38: 57623 | AP38: 45002 | AQ38: 5000000 | AR38: 0 | AS38: 0 | AT38: 0 | AU38: =SUM(AQ38+AR38+AS38+AT38) -> 5000000 | AV38: No | AW38: N/A | AX38: No aplica | AY38: 45006 | AZ38: Marzo | BA38: 45291 | BB38: =(BA38-AY38) -> 285 | BC38: MARITZA ROCIO SERRANO VILLAMIL | BD38: 39757630 | BE38: 0 | BG38: 0 | BI38: 0 | BM38: 0 | BO38: =SUM(AU38+BE38+BG38+BI38-BM38) -> 5000000 | BY38: =SUM(BB38+BP38+BS38+BV38) -> 285
A39: UNIDAD ADMINISTRATIVA ESPECIAL MIGRACIÓN COLOMBIA | B39: 900477235-6 | C39: Secop II | D39: 39 | E39: Juan David Camargo García | F39: 20236231415000013E | G39: Marzo | H39: 45014 | I39: PCD-112-2023-13COM | J39: N/A | K39: N/A | L39: CONTRATAR LA SUSCRIPCION A LA REVISTA SEMANA CON DESTINO A LA OFICINA DE COMUNICACIONES DE MIGRACION COLOMBIA | M39: Contratación Directa | N39: Exclusividad | O39: Oficina de Comunicaciones | P39: 82111904 | Q39: Servicios de entrega de periódicos o material publicitario | R39: 950000 | S39: 838000 | T39: 30023 | U39: A-02-02-01-003-002 | V39: Celebrado | W39: En ejecución | X39: N/A | Y39: CO-111-2023 | Z39: 45035 | AA39: Suscripción | AB39: N/A | AC39: Nivel Central | AD39: Bogotá D.C. | AE39: PUBLICACIONES SEMANA S.A. | AF39: 860509256 | AG39: 1 | AH39: N/A | AI39: N/A | AJ39: NO | AK39: No es mipyme | AL39: Sociedad Anónima | AM39: N/A | AN39: N/A | AO39: 74823 | AP39: 45037 | AQ39: 838000 | AR39: 0 | AS39: 0 | AT39: 0 | AU39: =SUM(AQ39+AR39+AS39+AT39) -> 838000 | AV39: No | AW39: N/A | AX39: No aplica | AY39: 45031 | AZ39: Abril | BA39: 45397 | BB39: =(BA39-AY39) -> 366 | BC39: MARITZA ROCIO SERRANO VILLAMIL | BD39: 393757630 | BE39: 0 | BG39: 0 | BI39: 0 | BM39: 0 | BO39: =SUM(AU39+BE39+BG39+BI39-BM39) -> 838000 | BY39: =SUM(BB39+BP39+BS39+BV39) -> 366
