Workbook
Name millon: #REF!
Name millon: #REF!

Sheet CONTRATOS 2016
B1: A CARGO | C1: EXPEDIENTE | D1: No PROCESO | E1: FECHA PUBLICACION PROCESO | F1: MODALIDAD | G1: CAUSAL | H1: AREA DE LA NECESIDAD | I1: OBJETO | J1: CONSECUTIVO PLAN | K1: CODIGO UNSCSP | L1: NOMBRE DE CODIGO | M1: VALOR PROCESO | N1: CDP | O1: RUBRO | P1: ETAPA | Q1: ESTADO | R1: FECHA LIQUIDACION | S1: SIRECI | T1: NOMBRE | U1: No. CONTRATO | V1: Fecha de Firma | W1: fecha de publicacion CONTRATO | X1: extemporaneidad | Y1: TIPO DE CONTRATO | Z1: TIPO DE CONTRATO | AA1: LUGAR EJECUCION DEPARTAMENTO | AB1: LUGAR EJECUCION MUNICIPIO | AC1: CONTRATISTA | AD1: IDENTIFICACION | AE1: DV | AF1: NUMERO RP | AG1: FECHA RP | AH1: VALOR HONORARIOS MENSUAL Y/O CANON | AI1: VALOR CONTRATO 2016 | AJ1: VALOR VF 2017 | AK1: VALOR VF 2018 | AL1: TOTAL CONTRATO | AM1: AMPARO | AN1: % | AO1: VIGENCIA | AP1: ASEGURADORA | AQ1: APROBACION | AR1: FECHA INICIO | AS1: FECHA DE TERMINACION | AT1: DIAS | AU1: FECHA DE TERMINACION GARANTIA | AV1: NOMBRE SUPERVISOR
B2: ALEJANDRA | D2: 45 | E2: 42569 | F2: MÍNIMA CUANTÍA | G2: MÍNIMA CUANTÍA | H2: SUBDIRECCION ADMINISTRATIVA Y FINANCIERA | I2: Contratar el mantenimiento preventivo y correctivo con suministro de repuestos originales para los vehículos multimarca que conforman el parque automotor de la unidad administrativa especial migración colombia de la regional occidente. El suministro de repuestos comprende originales u homologados nuevos, e incluye los servicios de lavado y despinche, y el servicio de expedición de tecno mecánicas, para los vehículos multimarcas, así como los vehículos marca: NISSAN, CHEVROLET, SUZUKI y TOYOTA que, por su modelo o ubicación, quedaron excluidos de los contratos monomarca. | J2: 184 | K2: 781815 | L2: Servicios de mantenimento y reparación | M2: 5750000 | N2: 37316 | O2: A-2-0-4-2-2 | P2: CELEBRADO | Q2: EJECUCIÓN | U2: 41 | V2: 42599 | W2: 42600 | X2: 0 | Y2: COMPRAVENTA | Z2: DESTRUCTORAS DE PAPEL | AA2: BOGOTÁ D.C. | AB2: REGIONAL ANDINA | AC2: LA CAMPIÑA LIMITADA | AD2: 890331560 | AE2: 2 | AF2: 154416 | AI2: 10000000 | AL2: =+AI2+AJ2 -> 10000000 | AM2: NO REQUIERE | AN2: NA | AO2: NA | AP2: NA | AS2: 42735 | AT2: 1 MES | AV2: CARLOS ALBERTO ARCHILA CABRERA
B3: ALEJANDRA | C3: 2016623140500176E | D3: 107 | E3: 42577 | F3: DIRECTA | G3: PRESTACIÓN SERVICIOS PROFESIONALES | H3: SUBDIRECCION DE TALENTO HUMANO | I3: Contratar la prestación de servicios profesioanels de acompañamiento y asesoría para la elaboración de un programa académinico de especialización en los procesos misones de Migración Colombia. | J3: 251 | K3: 861615 | L3: Servicios de apoyo gerencial | M3: 50000000 | N3: 43016 | O3: C-510-1002-1 | P3: CELEBRADO | Q3: EJECUCIÓN | U3: 124 | V3: 42628 | W3: 42629 | X3: =V3-W3 -> -1 | Y3: PRESTACIÓN DE SERVCIOS | Z3: PRESTACIÓN DE SERVICIOS PROFESIONALES Y DE APOYO A LA GESTIÓN | AA3: BOGOTÁ D.C. | AB3: BOGOTÁ D.C. | AC3: UNIVERSIDAD SERGIO ARBOLEDA | AD3: 860351894 | AE3: 3 | AF3: 173616 | AH3: 25000000 | AI3: 50000000 | AL3: =AI3+AJ3 -> 50000000 | AM3: NO REQUIERE | AN3: NA | AO3: NA | AP3: NA | AQ3: NA | AR3: 42628 | AS3: 42735 | AT3: =AS3-AR3 -> 107 | AV3: PATRICIA IDARRAGA
B4: SEBASTIAN | C4: 2016623141100017E | D4: 49 | E4: 42573 | F4: MÍNIMA CUANTÍA | G4: MÍNIMA CUANTÍA | H4: SUBDIRECCION ADMINISTRATIVA Y FINANCIERA | I4: Contratar el suministro de elementos para archivo, tintas y toner no incluido en el acuerdo marco de precios. | J4: 204 | K4: 441031 | L4: Suministros para impresora, fax y fotocopiadora | M4: 31000000 | N4: 18416 | O4: A-2-0-4-4-15 | P4: CELEBRADO | Q4: EJECUCIÓN | U4: 42 | W4: 42605 | X4: 0 | Y4: SUMINISTRO | Z4: TINTAS Y TONER | AA4: NACIONAL | AB4: NACIONAL | AC4: SERVIEQUIPOS Y SUMINISTROS S.A.S. | AD4: 830136314 | AE4: 3 | AF4: 156316 | AI4: 31000000 | AL4: =+AI4+AJ4 -> 31000000 | AM4: NO REQUIERE | AN4: NA | AO4: NA | AP4: NA | AQ4: NA | AR4: 42606 | AS4: 42735 | AT4: =AS4-AR4 -> 129 | AV4: NATHALIA CORTES MAYA
B5: CAMILA | C5: 2016623140300031E | D5: 50 | E5: 42580 | F5: MÍNIMA CUANTÍA | G5: MÍNIMA CUANTÍA | H5: SUBDIRECCION ADMINISTRATIVA Y FINANCIERA | I5: Contratar la adquisición de mobiliario para dotación de las áreas administrativas de Paraguachón y Leticia. | J5: 275 | K5: 56101708 56101504 | L5: Archivadores Asiento | M5: 10000000 | N5: 43416 | O5: A-2-0-4-2-2 | P5: CELEBRADO | Q5: EJECUCIÓN | U5: 40 | V5: 42600 | W5: 42600 | X5: 0 | Y5: COMPRAVENTA | Z5: ARCHIVADORES | AA5: BOGOTÁ D.C. | AB5: BOGOTÁ D.C. | AC5: ARCHIVO TOTAL LTDA. | AD5: 800158705 | AE5: 5 | AF5: 155216 | AI5: 7500560 | AL5: =+AI5+AJ5 -> 7500560 | AM5: NO REQUIERE | AN5: NA | AO5: NA | AP5: NA | AQ5: NA | AR5: 42600 | AS5: 42630 | AT5: =AS5-AR5 -> 30 | AV5: FRANK DANIEL RAMOS CHAPARRO
B6: SEBASTIAN | C6: 2016623140400004E | D6: 3 | E6: 42579 | F6: SELECCIÓN ABREVIADA | G6: MENOR CUANTIA | H6: SUBDIRECCION ADMINISTRATIVA Y FINANCIERA | I6: Contratar las obras tendientes al reforzamiento estructural de la sede de la Regional San Andres. | J6: 133 | K6: 721015 721540 721529 721527 | L6: Servicios de apoyo para la construcción Servicios de edificios especializados Servicios de montaje de acero especializado Servicios de instalación y repración de concreto | M6: 199914339 | N6: 43616 | O6: C-113-1002-1 | P6: CELEBRADO | Q6: EJECUCIÓN | U6: 126 | V6: 42635 | W6: 42635 | X6: 0 | Y6: OBRA | Z6: OBRA | AA6: SAN ANDRES | AB6: SAN ANDRES | AC6: ING ARANGO CIA SAS SAI | AD6: 900051227 | AE6: 8 | AF6: 187816 | AI6: 195170950 | AL6: =+AI6+AJ6 -> 195170950 | AM6: CUMPLIMIENTO; SALARIOS; ESTABILIDAD Y CALIDAD DE LA OBRA; RES EXTRACONTRACTUAL | AN6: 20%; 10%; 20%; 20 SMMLV | AO6: NA | AP6: NA | AQ6: NA | AR6: 42636 | AS6: 42726 | AT6: =AS6-AR6 -> 90 | AV6: FRANK DANIEL RAMOS CHAPARRO
B7: CAROLINA | C7: 2016623140300029E | D7: 18 | E7: 42578 | F7: SELECCIÓN ABREVIADA | G7: SUBASTA | H7: TECNOLOGIAS DE LA INFORMACION | I7: Adquirir equipos de conectividad switches y herramienta de administración, de acuerdo con las especificaciones técnicas requeridas por la Unidad Administrativa Especial Migración Colombia. | J7: 35 | K7: 432225 432226 811118 432217 432218 | L7: Equipo de seguridad de red Equipo de servicio de red Servicios de sistemas y administración de componentes y sistemas Equipo fijo de red y componentes Dispositivos de red ótica | M7: 289978812 | N7: 43916 | O7: C-223-1002-1 | P7: CELEBRADO | Q7: EJECUCIÓN | U7: 123 | V7: 42626 | W7: 42627 | X7: 0 | Y7: COMPRAVENTA | Z7: EQUIPOS DE COMUNICACIÓN | AA7: BOGOTÁ D.C. | AB7: BOGOTÁ D.C. | AC7: BOYRA S.A | AD7: 830100010 | AE7: 4 | AF7: 171216 | AH7: 0 | AI7: 288978813 | AL7: =+AI7+AJ7 -> 288978813 | AM7: CUMPLIMIENTO; SALARIOS; CALID SERVICIO; | AN7: 20%; 10%; 20%; | AT7: 3 MESES | AV7: CARLOS FREDDY CRUZ
B8: CLAUDIA A. | C8: 2016623140100016E | D8: 109 | E8: 42608 | F8: DIRECTA | G8: ARRENDAMIENTO | H8: SUBDIRECCION ADMINISTRATIVA Y FINANCIERA | I8: Contratar el arrendamiento de un inmueble en el Municipio de Puerto Santander (Norte de Santander) ubicado en la Cra. 4 # 5-63 Barrio La Punta, con matrícula inmobiliaria Nº 260-164025 y código catastral 010000160011000 de la Oficina de Registro de Instrumentos Públicos de Cúcuta, cuyos linderos y características se encuentran descritos en la Escritura Pública Nº 2.922 del 19 de Septiembre de 1996 según documentos expedidos por la Notaria 6 de la Ciudad de Cúcuta. | J8: 278 | K8: 801315 | L8: Alquiler o arrendamiento de propiedades o edificaciones | M8: 1876959 | N8: 48916 | O8: A-2-0-2-10-2 | P8: CELEBRADO | Q8: EJECUCIÓN | U8: 122 | V8: 42615 | W8: 42620 | X8: =V8-W8 -> -5 | Y8: ARRENDAMIENTO | Z8: ARRENDAMIENTO | AA8: NORTE DE SANTANDER | AB8: CUCUTA | AC8: EVA MARIA GARCIA GARCIA | AD8: 60357697 | AF8: 166516 | AI8: 1668408 | AL8: =AI8+AJ8 -> 1668408 | AM8: NO REQUIERE | AN8: NA | AO8: NA | AP8: NA | AQ8: NA | AR8: 42615 | AS8: 42735 | AT8: =AS8-AR8 -> 120 | AV8: SERGIO ANDRES BLANCO
B9: ALEJANDRA | C9: 2016623140500180E | D9: 110 | E9: 42612 | F9: DIRECTA | G9: PRESTACIÓN SERVICIOS PROFESIONALES | H9: SUBDIRECCION DE VERIFICACIONES | I9: Contratar la prestación de servicios profesionales para apoyar la construcción de una política pública para la subdirección de verificaciones, de acuerdo con las condiciones señaladas y especificaciones técnicas descritas en los Estudios Previos y la propuesta presentada por EL CONTRATISTA. | J9: 240 | K9: 801015 | L9: Servicios de consultoría de negocios y administración corporativa | M9: 40000000 | N9: 49216 | O9: C-520-1002-1 | P9: SOLICITUD PROPUESTA | Q9: SOLICITUD PROPUESTA | U9: 127 | V9: 42641 | W9: 42641 | X9: =V9-W9 -> 0 | Y9: PRESTACIÓN DE SERVICIOS | Z9: PRESTACIÓN DE SERVICIOS | AA9: BOGOTÁ D.C. | AB9: BOGOTÁ D.C. | AC9: CLEMENCIA RAMÍREZ HERRERA | AD9: 21070040 | AF9: 194116 | AH9: 10000000 | AI9: 40000000 | AL9: =AI9+AJ9 -> 40000000 | AM9: NO REQUIERE | AN9: NA | AO9: NA | AP9: NA | AQ9: NA | AR9: 42641 | AS9: 42735 | AT9: =AS9-AR9 -> 94 | AV9: JOSE GABRIEL JIMÉNEZ RINCON
B10: SEBASTIAN | C10: 2016623140500185E | D10: 112 | E10: 42626 | F10: DIRECTA | G10: PRESTACIÓN SERVICIOS PROFESIONALES | H10: SUBDIRECCIÓN DE CONTROL MIGRATORIO | I10: Contratar la prestación de servicios profesionales para apoyar a la Subdirección de Control Migratorio, en el desarrollo de procesos liderados por esta dependencia, de acuerdo con las condiciones señaladas y especificaciones técnicas descritas en los Estudios Previos y la Propuesta presentada por el contratista | J10: 282 | K10: 801116 | L10: Servicios de personal temporal | M10: 5000000 | N10: 51516 | O10: A-1-0-2-14 | P10: CELEBRADO | Q10: EJECUCIÓN | U10: 125 | V10: 42628 | W10: 42632 | X10: =V10-W10 -> -4 | Y10: PRESTACIÓN DE SERVICIOS | Z10: PRESTACIÓN DE SERVICIOS | AA10: BOGOTÁ D.C. | AB10: BOGOTÁ D.C. | AC10: ROBINSON VALENCIA GIRALDO | AD10: 75035031 | AF10: 173716 | AH10: 2500000 | AI10: 5000000 | AL10: =AI10+AJ10 -> 5000000 | AM10: NO REQUIERE | AN10: NA | AO10: NA | AP10: NA | AQ10: NA | AR10: 42629 | AS10: 42689 | AT10: =AS10-AR10 -> 60 | AV10: HUBERTO VELASQUEZ ARDILA
B11: CAMILA | C11: 2016623140500181E | D11: 20 | E11: 42611 | F11: SELECCIÓN ABREVIADA | G11: SUBASTA | H11: TECNOLOGIAS DE LA INFORMACION | I11: Contratar la renovación, actualización, licenciamiento y soporte técnico de la solución de firewall, de conformidad con las especificaciones de la Unidad Administrativa Migración Colombia. | J11: 39 | K11: 432225 | L11: Equipo de seguridad de red | M11: 149994926 | N11: 49116 | O11: C-223-1002-1 | P11: CONVOCADO | Q11: PROYECTO DE PLIEGO | X11: 0 | Y11: COMPRAVENTA | Z11: RENOVACIÓN LICENCIAMIENTO | AA11: BOGOTÁ D.C. | AB11: BOGOTÁ D.C. | AH11: 0 | AL11: =+AI11+AJ11 -> 0 | AM11: CUMPLIMIENTO; SALARIOS; CALIDAD SERVICIOS | AN11: 20%; 10%; 20%; | AT11: 30 DÍAS
B12: CAMILA | C12: 2016623140400007E | D12: 5 | E12: 42642 | F12: SELECCIÓN ABREVIADA | G12: MENOR CUANTIA | H12: TECNOLOGIAS DE LA INFORMACION | I12: Contratar obras para la adecuación de la infraestructura física del puesto de control migratorio marítimo – PCMM localizado en el municipio de Tumaco - Nariño. | J12: 104 | K12: 721015 721211 721515 721519 | L12: Servicios de apoyo a la contrucción. Servicios de construcción de edificios generales y de oficina. Servicios de sistemas eléctricos Servicios de albañilería y mampostería. | M12: 209993378 | N12: 54516 | O12: C-113-1002-1 | P12: CONVOCADO | Q12: PROYECTO DE PLIEGO | X12: 0 | Y12: OBRA | Z12: OBRRA | AA12: TUMACO | AB12: NARIÑO | AH12: 0 | AL12: =+AI12+AJ12 -> 0 | AM12: CUMPLIMIENTO; SALARIOS; ESTALIBILIDAD OBRA; RESPONSABILIDAD CIVIL EXTRACONTRACTUAL | AN12: 20%; 10%; 20%; 200 SMMLV | AS12: 42733 | AT12: =AS12-AR12 -> 42733
B13: CAROLINA | C13: 2016623140300037E | D13: 51 | E13: 42640 | F13: MÍNIMA CUANTÍA | G13: MÍNIMA CUANTÍA | H13: TECNOLOGIAS DE LA INFORMACION | I13: Adquirir la suscripción de licenciamiento del Software Adobe Creative Cloud, incluido soporte, de conformidad con las especificaciones técnicas de la Unidad Administrativa Especial Migración Colombia | J13: 287 | K13: 432321 | L13: Software de edición y creación de contenidos | M13: 15000000 | N13: 54216 | O13: C-223-1002-1 | P13: CONVOCADO | Q13: INVITACIÓN PÚBLICA | X13: 0 | Y13: COMPRAVENTA | Z13: LICENCIA Y SOPORTE | AA13: BOGOTÁ D.C. | AB13: BOGOTÁ D.C. | AL13: =+AI13+AJ13 -> 0 | AM13: NO REQUIERE | AN13: NA | AO13: NA | AP13: NA | AQ13: NA | AT13: =AS13-AR13 -> 0
B14: DANIELA | C14: 2016623140500186E | D14: 113 | E14: 42627 | F14: DIRECTA | G14: PRESTACIÓN SERVICIOS PROFESIONALES | H14: OFICINA DE COMUNICACIONES | I14: Contratar la suscripción al periódico La República, con destino a diferentes dependencias de la Unidad Administrativa Especial Migración Colombia. | J14: 169 | K14: 821119 | L14: Servicios de noticias y publicidad | M14: 280000 | N14: 51416 | O14: A-2-0-4-7-5 | P14: CELEBRADO | Q14: EJECUCIÓN | U14: 130 | V14: 42646 | W14: 42646 | X14: =V14-W14 -> 0 | Y14: PRESTACIÓN DE SERVICIOS | Z14: SUSCRIPCIÓN PERIODICO | AA14: BOGOTÁ D.C. | AB14: BOGOTÁ D.C. | AC14: EIDTORIAL EL GLOBO S.A. | AD14: 860009759 | AE14: 2 | AF14: 197016 | AI14: 280000 | AL14: =AI14+AJ14 -> 280000 | AM14: NO REQUIERE | AN14: NA | AO14: NA | AP14: NA | AQ14: NA | AR14: 42646 | AS14: 43010 | AT14: =AS14-AR14 -> 364 | AV14: JUAN MANUEL CAICEDO CARDONA
B15: ALEJANDRA | C15: 2016623140500184E | D15: 114 | E15: 42628 | F15: DIRECTA | G15: PRESTACIÓN SERVICIOS PROFESIONALES | H15: SUBDIRECCIÓN DE EXTRANJERÍA | I15: Prestación de servicios profesionales a la Subdirección de Extranjería consistentes en la definición, formulación e implementación de controles relacionados con la seguridad de la información de Migración Colombia, de acuerdo a las condiciones y especificaciones técnicas descritas en los Estudios Previos y a la Propuesta presentada por EL CONTRATISTA. | J15: 169 | K15: 801116 | L15: Servicios de personal temporal | M15: 18000000 | N15: 46716 | O15: C-520-1002-1 | P15: CELEBRADO | Q15: EJECUCIÓN | U15: 129 | V15: 42646 | W15: 42646 | X15: =V15-W15 -> 0 | Y15: PRESTACIÓN DE SERVICIOS PROFESIONALES | Z15: PRESTACIÓN DE SERVICIOS PROFESIONALES | AA15: BOGOTÁ D.C. | AB15: BOGOTÁ D.C. | AC15: JOSÉ MANUEL PIRATOBA LEMUS | AD15: 79051776 | AF15: 196916 | AH15: 4250000 | AI15: 18000000 | AL15: =AI15+AJ15 -> 18000000 | AM15: NO REQUIERE | AN15: NA | AO15: NA | AP15: NA | AQ15: NA | AR15: 42646 | AS15: 42735 | AT15: =AS15-AR15 -> 89 | AV15: GLORIA ELSA LEON PERDOMO
B16: DANIELA | C16: 2016623140300036E | D16: 115 | E16: 42639 | F16: DIRECTA | G16: EXCLUSIVIDAD | H16: TECNOLOGIAS DE LA INFORMACION | I16: Contratar la extensión de la garantía para las lectoras 3M Modelo AT9000 y actualización del software AssureID, que contempla mantenimiento preventivo, correctivo, suministro de repuestos y soporte, de conformidad con el cuadro de cantidades y especificaciones de la Unidad Administrativa Especial Migración Colombia. | J16: 41 | K16: 432117 | L16: Dispositivos informáticos de entrada de datos | M16: 18000000 | N16: 46716 | O16: C-520-1002-1 | P16: CONVOCADO | Q16: SOLICITUD DE PROPUESTA | X16: =V16-W16 -> 0 | Y16: COMPRAVENTA | Z16: COMPRAVENTA EQUIPOS | AA16: BOGOTÁ D.C. | AB16: BOGOTÁ D.C. | AC16: 3M COLOMBIA S.A. | AL16: =AI16+AJ16 -> 0 | AM16: CUMPLIMIENTO 20%; SALARIOS 10%; CALIDA SERVICIO 20% | AN16: NA | AO16: NA | AP16: NA | AQ16: NA | AT16: 30 DÍAS CALENDARIO | AV16: ALEX FERNEY HINCAPIE NUÑEZ

Sheet Hoja3
B5: TOTAL PROCESOS PROGRAMADOS PLAN DE ADQUISICIONES: | H5: 268 | I5: VERSIÓN 12 DEL 1-6-2016 | M5: =SUM([1]pabs!$I$6:$I$273) -> 3.5470691e+10
B7: ACUERDOS MARCO DE PRECIO+AGREGACIÓN X DEMANDA Y GRANDES SUPERFICIES | K7: 40 | L7: 5852496184 | N7: 100 | P7: =L17/L7 -> 0.55865794
B8: SELECCIÓN ABREVIADA (BOLSA MERCANTIL+MENOR CUANTÍA+SUBASTA INVERSA) | K8: 30 | L8: 6149340866 | N8: 100 | P8: =L18/L8 -> 0.46180095
B9: CONCURSO DE MÉRITOS | K9: 1 | L9: 108546000 | N9: 100 | P9: =L19/L9 -> 0
B10: CONTRATACIÓN DIRECTA | K10: 115 | L10: 8192415658 | N10: 100 | P10: =L20/L10 -> 0.71139047
B11: LICITACIÓN | K11: 5 | L11: 14872357424 | N11: 100 | P11: =L21/L11 -> #REF!
B12: MÍNIMA CUANTÍA | K12: 51 | L12: 565329645 | N12: 100 | P12: =L22/L12 -> 0.56394346
B13: RETIRADO | K13: 29 | L13: 0 | M13: =SUM(L7:L13) -> 35740485777 | N13: 100
B14: SUSPENDIDOS | K14: 2 | L14: 0
K15: =SUM(K7:K14) -> 273 | M15: =M13*50% -> 1.7870243e+10 | P15: =L24/M13 -> #REF!
B17: ACUERDOS MARCO DE PRECIO+AGREGACIÓN X DEMANDA Y GRANDES SUPERFICIES | K17: 21 | L17: 3269543449 | M17: =((L17*N7)/L7) -> 55.865794 | N17: =K7-K17 -> 19 | O17: =L7-L17 -> 2582952735 | P17: =((O17*N7)/L7) -> 44.134206
B18: SELECCIÓN ABREVIADA (BOLSA MERCANTIL+MENOR CUANTÍA+SUBASTA INVERSA) | K18: 15 | L18: 2839771449 | M18: =((L18*N8)/L8) -> 46.180095 | N18: =K8-K18 -> 15 | O18: =L8-L18 -> 3309569417 | P18: =((O18*N8)/L8) -> 53.819905
B19: CONCURSO DE MÉRITOS | K19: 0 | L19: 0 | M19: =((L19*N9)/L9) -> 0 | N19: =K9-K19 -> 1 | O19: =L9-L19 -> 108546000 | P19: =((O19*N9)/L9) -> 100
B20: CONTRATACIÓN DIRECTA | K20: 86 | L20: 5828006451 | M20: =((L20*N10)/L10) -> 71.139047 | N20: =K10-K20 -> 29 | O20: =L10-L20 -> 2364409207 | P20: =((O20*N10)/L10) -> 28.860953
B21: LICITACIÓN | K21: 3 | L21: =1069118500+'CONTRATOS 2016'!#REF! -> #REF! | M21: =((L21*N11)/L11) -> #REF! | N21: =K11-K21 -> 2 | O21: =L11-L21 -> #REF! | P21: =((O21*N11)/L11) -> #REF!
B22: MÍNIMA CUANTÍA | K22: 36 | L22: 3.1881396e+08 | M22: =((L22*N12)/L12) -> 56.394346 | N22: =K12-K22 -> 15 | O22: =L12-L22 -> 2.4651569e+08 | P22: =((O22*N12)/L12) -> 43.605654
B23: DESIERTOS | K23: 10 | L23: 0
I24: 2.2825547e+10 | K24: =SUM(K17:K23) -> 171 | L24: =SUM(L17:L23) -> #REF! | N24: =SUM(N17:N22) -> 81 | O24: =SUM(O17:O22) -> #REF!
I25: =1069118500 -> 1069118500 | M25: =((L24*N13)/M13) -> #REF!
I26: =I24-L24 -> #REF! | L26: =L24/M13 -> #REF! | O26: =L24+O24 -> #REF!
M27: =M15-L24 -> #REF!
M28: 4700974086
B29: TOTAL CONTRATOS: | H29: 100 | I29: CON LA ORDEN DE SERVICIO DE ELECTRICARIBE
B30: CONTRATACIÓN DIRECTA | H30: 83
B31: CONTRATO DE ELECTRICARIBE | H31: 1
B32: LICITACIÓN PÚBLICA | H32: 2
B33: SELECCIÓN ABREVIADA | H33: 14
B34: ORDENES DE COMPRA | H34: 20
H35: =SUM(H30:H34) -> 120
B37: ACEPTACIONES DE OFERTA
B39: MÍNIMA CUANTÍA: | H39: 26

Sheet SUPERVISIONES 2015
A1: SUPERVISIONES | D1: CONTRATOS
A2: NOMBRE | B2: CEDULA | D2: No | E2: VALOR
A3: ABELARDO ALFREDO GOMEZ MENDEZ | B3: 76316134 | C3: PUESTO DE CONTROL MIGRATORIO MARÍTIMO BUENAVENTURA | D3: =COUNTIFS('CONTRATOS 2016'!AV:AV,A3,'CONTRATOS 2016'!$AI:AI,">=1") -> 0 | E3: =SUMIFS('CONTRATOS 2016'!$AI:AI,'CONTRATOS 2016'!$AV:AV,A3) -> 0
A4: ADIELA DEL CARMEN BENITEZ CHARRIA | B4: 51574674 | C4: OFICINA DE TECNOLOGÍA DE LA INFORMACIÓN | D4: =COUNTIFS('CONTRATOS 2016'!AV:AV,A4,'CONTRATOS 2016'!$AI:AI,">=1") -> 0 | E4: =SUMIFS('CONTRATOS 2016'!$AI:AI,'CONTRATOS 2016'!$AV:AV,A4) -> 0
A5: ADOLFO DE JESUS VEGA GOMEZ | B5: 74320636 | C5: GRUPO FINANCIERO | D5: =COUNTIFS('CONTRATOS 2016'!AV:AV,A5,'CONTRATOS 2016'!$AI:AI,">=1") -> 0 | E5: =SUMIFS('CONTRATOS 2016'!$AI:AI,'CONTRATOS 2016'!$AV:AV,A5) -> 0
A6: ADOLFO GONZALEZ VILLAR | B6: 79340365 | C6: GRUPO DE VERIFICACIONES MIGRATORIAS REGIONAL ANDINA | D6: =COUNTIFS('CONTRATOS 2016'!AV:AV,A6,'CONTRATOS 2016'!$AI:AI,">=1") -> 0 | E6: =SUMIFS('CONTRATOS 2016'!$AI:AI,'CONTRATOS 2016'!$AV:AV,A6) -> 0
A7: ADONIO DAZA VELANDIA | B7: 79705370 | C7: GRUPO DE EXTRANJERÍA REGIONAL ANDINA | D7: =COUNTIFS('CONTRATOS 2016'!AV:AV,A7,'CONTRATOS 2016'!$AI:AI,">=1") -> 0 | E7: =SUMIFS('CONTRATOS 2016'!$AI:AI,'CONTRATOS 2016'!$AV:AV,A7) -> 0
A8: ADRIANA ISABEL MONCADA CARVAJAL | B8: 1024495295 | C8: PUESTO DE CONTROL MIGRATORIO AÉREO EL DORADO | D8: =COUNTIFS('CONTRATOS 2016'!AV:AV,A8,'CONTRATOS 2016'!$AI:AI,">=1") -> 0 | E8: =SUMIFS('CONTRATOS 2016'!$AI:AI,'CONTRATOS 2016'!$AV:AV,A8) -> 0
A9: ADRIANA MARCELA HINOJOSA CASTAÑEDA | B9: 68296543 | C9: PUESTO DE CONTROL MIGRATORIO TERRESTRE ARAUCA | D9: =COUNTIFS('CONTRATOS 2016'!AV:AV,A9,'CONTRATOS 2016'!$AI:AI,">=1") -> 0 | E9: =SUMIFS('CONTRATOS 2016'!$AI:AI,'CONTRATOS 2016'!$AV:AV,A9) -> 0
A10: ADRIANA MERCEDES RODRIGUEZ VILLATE | B10: 52993820 | C10: OFICINA ASESORA JURÍDICA | D10: =COUNTIFS('CONTRATOS 2016'!AV:AV,A10,'CONTRATOS 2016'!$AI:AI,">=1") -> 0 | E10: =SUMIFS('CONTRATOS 2016'!$AI:AI,'CONTRATOS 2016'!$AV:AV,A10) -> 0
A11: ADRIANA PAOLA CUERVO PULIDO | B11: 52934097 | C11: PUESTO DE CONTROL MIGRATORIO AÉREO EL DORADO | D11: =COUNTIFS('CONTRATOS 2016'!AV:AV,A11,'CONTRATOS 2016'!$AI:AI,">=1") -> 0 | E11: =SUMIFS('CONTRATOS 2016'!$AI:AI,'CONTRATOS 2016'!$AV:AV,A11) -> 0
A12: AIDA LORENA TELLO LOPEZ | B12: 27082113 | C12: GRUPO DE EXTRANJERÍA REGIONAL OCCIDENTE | D12: =COUNTIFS('CONTRATOS 2016'!AV:AV,A12,'CONTRATOS 2016'!$AI:AI,">=1") -> 0 | E12: =SUMIFS('CONTRATOS 2016'!$AI:AI,'CONTRATOS 2016'!$AV:AV,A12) -> 0
A13: AIDA MILENA PEREZ AROSEMENA | B13: 31164881 | C13: GRUPO DE VERIFICACIONES MIGRATORIAS REGIONAL OCCIDENTE | D13: =COUNTIFS('CONTRATOS 2016'!AV:AV,A13,'CONTRATOS 2016'!$AI:AI,">=1") -> 0 | E13: =SUMIFS('CONTRATOS 2016'!$AI:AI,'CONTRATOS 2016'!$AV:AV,A13) -> 0
A14: ALBA LUCIA CRUZ RODRIGUEZ | B14: 35492456 | C14: GRUPO ADMINISTRATIVO | D14: =COUNTIFS('CONTRATOS 2016'!AV:AV,A14,'CONTRATOS 2016'!$AI:AI,">=1") -> 0 | E14: =SUMIFS('CONTRATOS 2016'!$AI:AI,'CONTRATOS 2016'!$AV:AV,A14) -> 0
... A200: CRISTIAN FIGUEROA BARRERA | B200: 73191311 | C200: CENTRO FACILITADOR DE SERVICIOS MIGRATORIOS VALLEDUPAR | D200: =COUNTIFS('CONTRATOS 2016'!AV:AV,A200,'CONTRATOS 2016'!$AI:AI,">=1") -> 0 | E200: =SUMIFS('CONTRATOS 2016'!$AI:AI,'CONTRATOS 2016'!$AV:AV,A200) -> 0
A201: CRISTIAN YESID TORRES GUERRERO | B201: 80829521 | C201: GRUPO DE ADMINISTRACIÓN DE PERSONAL, SELECCIÓN E INCORPORACIÓN | D201: 46 | E201: =SUMIFS('CONTRATOS 2016'!$AI:AI,'CONTRATOS 2016'!$AV:AV,A201) -> 0 | AU201: TAMARA CABEZA PACHECO
A202: CRISTIAN YESID TORRES GUERRERO | B202: DANIELA | C202: GRUPO DE ADMINISTRACIÓN DE PERSONAL, SELECCIÓN E INCORPORACIÓN | D202: 47 | E202: =SUMIFS('CONTRATOS 2016'!$AI:AI,'CONTRATOS 2016'!$AV:AV,A202) -> 0 | AU202: TAMARA CABEZA PACHECO
A203: CYNTHIA PAOLA ATENCIO GUERRERO | B203: 1140834533 | C203: PUESTO DE CONTROL MIGRATORIO TERRESTRE PARAGUACHON | D203: =COUNTIFS('CONTRATOS 2016'!AV:AV,A203,'CONTRATOS 2016'!$AI:AI,">=1") -> 0 | E203: =SUMIFS('CONTRATOS 2016'!$AI:AI,'CONTRATOS 2016'!$AV:AV,A203) -> 0
A204: DAGOBERTO BELTRAN VARGAS | B204: 12206151 | C204: SECRETARIA GENERAL | D204: =COUNTIFS('CONTRATOS 2016'!AV:AV,A204,'CONTRATOS 2016'!$AI:AI,">=1") -> 0 | E204: =SUMIFS('CONTRATOS 2016'!$AI:AI,'CONTRATOS 2016'!$AV:AV,A204) -> 0
A205: DALGEN CONSTANZA GOMEZ RUBIO | B205: 20904306 | C205: DESPACHO DIRECTOR REGIONAL ORINOQUIA | D205: =COUNTIFS('CONTRATOS 2016'!AV:AV,A205,'CONTRATOS 2016'!$AI:AI,">=1") -> 0 | E205: =SUMIFS('CONTRATOS 2016'!$AI:AI,'CONTRATOS 2016'!$AV:AV,A205) -> 0
A206: DANIEL ALEJANDRO CARO VALERO | B206: 1032361758 | C206: PUESTO DE CONTROL MIGRATORIO AÉREO EL DORADO | D206: =COUNTIFS('CONTRATOS 2016'!AV:AV,A206,'CONTRATOS 2016'!$AI:AI,">=1") -> 0 | E206: =SUMIFS('CONTRATOS 2016'!$AI:AI,'CONTRATOS 2016'!$AV:AV,A206) -> 0
A207: DANIEL ALEJANDRO MENDOZA JIMENEZ | B207: 1013623463 | C207: PUESTO DE CONTROL MIGRATORIO AÉREO EL DORADO | D207: =COUNTIFS('CONTRATOS 2016'!AV:AV,A207,'CONTRATOS 2016'!$AI:AI,">=1") -> 0 | E207: =SUMIFS('CONTRATOS 2016'!$AI:AI,'CONTRATOS 2016'!$AV:AV,A207) -> 0
A208: DANIEL ALEXANDER PIRIZ TORRES | B208: 88227029 | C208: CENTRO FACILITADOR DE SERVICIOS MIGRATORIOS RIOHACHA | D208: =COUNTIFS('CONTRATOS 2016'!AV:AV,A208,'CONTRATOS 2016'!$AI:AI,">=1") -> 0 | E208: =SUMIFS('CONTRATOS 2016'!$AI:AI,'CONTRATOS 2016'!$AV:AV,A208) -> 0
A209: DANIEL ALONSO CHACON PRADO | B209: 79910575 | C209: GRUPO DE VERIFICACIONES MIGRATORIAS REGIONAL ANDINA | D209: =COUNTIFS('CONTRATOS 2016'!AV:AV,A209,'CONTRATOS 2016'!$AI:AI,">=1") -> 0 | E209: =SUMIFS('CONTRATOS 2016'!$AI:AI,'CONTRATOS 2016'!$AV:AV,A209) -> 0
A210: DANIEL DAVID DE LOS RIOS SUAREZ | B210: 1112461656 | C210: PUESTO DE CONTROL MIGRATORIO AÉREO RAFAEL NUÑEZ | D210: =COUNTIFS('CONTRATOS 2016'!AV:AV,A210,'CONTRATOS 2016'!$AI:AI,">=1") -> 0 | E210: =SUMIFS('CONTRATOS 2016'!$AI:AI,'CONTRATOS 2016'!$AV:AV,A210) -> 0
A211: DANIEL DE JESUS CARDOSO ESCORCIA | B211: 1042427003 | C211: PUESTO DE CONTROL MIGRATORIO TERRESTRE PARAGUACHON | D211: =COUNTIFS('CONTRATOS 2016'!AV:AV,A211,'CONTRATOS 2016'!$AI:AI,">=1") -> 0 | E211: =SUMIFS('CONTRATOS 2016'!$AI:AI,'CONTRATOS 2016'!$AV:AV,A211) -> 0
A212: DANIEL EMILIO CABALLERO BERNAL | B212: 7186433 | C212: GRUPO DE VERIFICACIÓN Y SUSTANCIACIÓN DE ACTUACIONES ADMINISTRATIVAS | D212: =COUNTIFS('CONTRATOS 2016'!AV:AV,A212,'CONTRATOS 2016'!$AI:AI,">=1") -> 0 | E212: =SUMIFS('CONTRATOS 2016'!$AI:AI,'CONTRATOS 2016'!$AV:AV,A212) -> 0
A213: DANIEL FELIPE OLIVOS MATEUS | B213: 1010203640 | C213: PUESTO DE CONTROL MIGRATORIO AÉREO EL DORADO | D213: =COUNTIFS('CONTRATOS 2016'!AV:AV,A213,'CONTRATOS 2016'!$AI:AI,">=1") -> 0 | E213: =SUMIFS('CONTRATOS 2016'!$AI:AI,'CONTRATOS 2016'!$AV:AV,A213) -> 0
A214: DANIEL FERNANDO SUIKAN BUSTAMANTE | B214: 1123621369 | C214: PUESTO DE CONTROL MIGRATORIO TERRESTRE PARAGUACHON | D214: =COUNTIFS('CONTRATOS 2016'!AV:AV,A214,'CONTRATOS 2016'!$AI:AI,">=1") -> 0 | E214: =SUMIFS('CONTRATOS 2016'!$AI:AI,'CONTRATOS 2016'!$AV:AV,A214) -> 0
... A227: DERIAM ANDRES CORTES OQUENDO | B227: 71224985 | C227: PUESTO DE CONTROL MIGRATORIO AÉREO DE JOSE MARIA CORDOBA | D227: =COUNTIFS('CONTRATOS 2016'!AV:AV,A227,'CONTRATOS 2016'!$AI:AI,">=1") -> 0 | E227: =SUMIFS('CONTRATOS 2016'!$AI:AI,'CONTRATOS 2016'!$AV:AV,A227) -> 0
A228: DESIERTA | B228: DESIERTA | D228: =COUNTIFS('CONTRATOS 2016'!AV:AV,A228,'CONTRATOS 2016'!$AI:AI,">=1") -> 0 | E228: =SUMIFS('CONTRATOS 2016'!$AI:AI,'CONTRATOS 2016'!$AV:AV,A228) -> 0
A229: DEYMER ANDRES PEREZ AZUERO | B229: 1014198058 | C229: PUESTO DE CONTROL MIGRATORIO AÉREO EL DORADO | D229: =COUNTIFS('CONTRATOS 2016'!AV:AV,A229,'CONTRATOS 2016'!$AI:AI,">=1") -> 0 | E229: =SUMIFS('CONTRATOS 2016'!$AI:AI,'CONTRATOS 2016'!$AV:AV,A229) -> 0
A230: DIANA ASTRID GONZALEZ RODRIGUEZ | B230: 1000468012 | C230: PUESTO DE CONTROL MIGRATORIO AÉREO EL DORADO | D230: =COUNTIFS('CONTRATOS 2016'!AV:AV,A230,'CONTRATOS 2016'!$AI:AI,">=1") -> 0 | E230: =SUMIFS('CONTRATOS 2016'!$AI:AI,'CONTRATOS 2016'!$AV:AV,A230) -> 0
A231: DIANA ASTRID GUERRERO MENDOZA | B231: 52020564 | C231: GRUPO ASUNTOS INTERNACIONALES | D231: =COUNTIFS('CONTRATOS 2016'!AV:AV,A231,'CONTRATOS 2016'!$AI:AI,">=1") -> 0 | E231: =SUMIFS('CONTRATOS 2016'!$AI:AI,'CONTRATOS 2016'!$AV:AV,A231) -> 0
A232: DIANA CAROLINA CUERVO MARTINEZ | B232: 1016004159 | C232: GRUPO DE ESTUDIOS INSTITUCIONALES SOBRE MIGRACION - GDEIM | D232: =COUNTIFS('CONTRATOS 2016'!AV:AV,A232,'CONTRATOS 2016'!$AI:AI,">=1") -> 0 | E232: =SUMIFS('CONTRATOS 2016'!$AI:AI,'CONTRATOS 2016'!$AV:AV,A232) -> 0
A233: DIANA CAROLINA GIL GUTIERREZ | B233: 53075620 | C233: SUBDIRECCIÓN DE EXTRANJERÍA | D233: =COUNTIFS('CONTRATOS 2016'!AV:AV,A233,'CONTRATOS 2016'!$AI:AI,">=1") -> 0 | E233: =SUMIFS('CONTRATOS 2016'!$AI:AI,'CONTRATOS 2016'!$AV:AV,A233) -> 0
A234: DIANA CAROLINA GUARNIZO HERNANDEZ | B234: 53063673 | C234: PUESTO DE CONTROL MIGRATORIO AÉREO EL DORADO | D234: =COUNTIFS('CONTRATOS 2016'!AV:AV,A234,'CONTRATOS 2016'!$AI:AI,">=1") -> 0 | E234: =SUMIFS('CONTRATOS 2016'!$AI:AI,'CONTRATOS 2016'!$AV:AV,A234) -> 0
A235: DIANA CAROLINA LARA GARNICA | B235: 1072420929 | C235: PUESTO DE CONTROL MIGRATORIO AÉREO EL DORADO | D235: =COUNTIFS('CONTRATOS 2016'!AV:AV,A235,'CONTRATOS 2016'!$AI:AI,">=1") -> 0 | E235: =SUMIFS('CONTRATOS 2016'!$AI:AI,'CONTRATOS 2016'!$AV:AV,A235) -> 0
A236: DIANA CAROLINA MARTINEZ REYES | B236: 37547423 | C236: GRUPO DE ATENCIÓN AL CIUDADANO | D236: =COUNTIFS('CONTRATOS 2016'!AV:AV,A236,'CONTRATOS 2016'!$AI:AI,">=1") -> 0 | E236: =SUMIFS('CONTRATOS 2016'!$AI:AI,'CONTRATOS 2016'!$AV:AV,A236) -> 0
A237: DIANA CATHERINE ROMERO MORA | B237: 1032382777 | C237: PUESTO DE CONTROL MIGRATORIO AÉREO EL DORADO | D237: =COUNTIFS('CONTRATOS 2016'!AV:AV,A237,'CONTRATOS 2016'!$AI:AI,">=1") -> 0 | E237: =SUMIFS('CONTRATOS 2016'!$AI:AI,'CONTRATOS 2016'!$AV:AV,A237) -> 0
...

Sheet LINK PROCESOS
C1: LICITACIÓN | E1: DIRECTA | G1: MÍNIMA | I1: SIP | L1: BOLSA DE PRODUCTOS | O1: MENOR CUANTÍA
B2: 1 | C2: https://www.secop.gov.co/CO1BusinessLine/Tendering/BuyerWorkArea/Index?DocUniqueIdentifier=CO1.BDOS.50804 | D2: 1 | E2: https://www.contratos.gov.co/consultas/detalleProceso.do?numConstancia=16-12-4556844 | F2: 1 | G2: https://www.contratos.gov.co/consultas/detalleProceso.do?numConstancia=16-13-4604543 | H2: 1 | I2: https://www.contratos.gov.co/consultas/detalleProceso.do?numConstancia=16-9-411999 | K2: 1 | L2: https://www.contratos.gov.co/consultas/detalleProceso.do?numConstancia=16-4-4857664 | N2: 1
B3: 2 | C3: https://www.contratos.gov.co/consultas/detalleProceso.do?numConstancia=16-1-156755 | D3: 2 | E3: https://www.contratos.gov.co/consultas/detalleProceso.do?numConstancia=16-12-4561909 | F3: 2 | G3: https://www.contratos.gov.co/consultas/detalleProceso.do?numConstancia=16-13-4612333 | H3: 2 | I3: https://www.contratos.gov.co/consultas/detalleProceso.do?numConstancia=16-9-412001 | N3: 2 | O3: http://www.contratos.gov.co/consultas/detalleProceso.do?numConstancia=16-17-4808736
D4: 3 | E4: https://www.contratos.gov.co/consultas/detalleProceso.do?numConstancia=16-12-4569848 | F4: 3 | G4: https://www.contratos.gov.co/consultas/detalleProceso.do?numConstancia=16-13-4635237 | H4: 3 | I4: http://www.contratos.gov.co/consultas/detalleProceso.do?numConstancia=16-9-412024
D5: 4 | E5: http://www.contratos.gov.co/consultas/detalleProceso.do?numConstancia=16-12-4570017 | F5: 4 | G5: https://www.contratos.gov.co/consultas/detalleProceso.do?numConstancia=16-13-4640201 | H5: 4 | I5: http://www.contratos.gov.co/consultas/detalleProceso.do?numConstancia=16-9-412031
D6: 5 | E6: http://www.contratos.gov.co/consultas/detalleProceso.do?numConstancia=16-12-4570037 | F6: 5 | G6: https://www.contratos.gov.co/consultas/detalleProceso.do?numConstancia=16-13-4639886 | H6: 5 | I6: http://www.contratos.gov.co/consultas/detalleProceso.do?numConstancia=16-9-412453
D7: 6 | E7: http://www.contratos.gov.co/consultas/detalleProceso.do?numConstancia=16-12-4570091 | F7: 6 | G7: https://www.contratos.gov.co/consultas/detalleProceso.do?numConstancia=16-13-4646948 | H7: 6 | I7: https://www.contratos.gov.co/consultas/detalleProceso.do?numConstancia=16-9-412647
D8: 7 | E8: https://www.contratos.gov.co/consultas/detalleProceso.do?numConstancia=16-12-4572101 | F8: 7 | G8: https://www.contratos.gov.co/consultas/detalleProceso.do?numConstancia=16-13-4647213 | H8: 7 | I8: http://www.contratos.gov.co/consultas/detalleProceso.do?numConstancia=16-9-412763
D9: 8 | E9: http://www.contratos.gov.co/consultas/detalleProceso.do?numConstancia=16-12-4573954 | F9: 8 | G9: https://www.contratos.gov.co/consultas/detalleProceso.do?numConstancia=16-13-4700091 | H9: 8 | I9: https://www.contratos.gov.co/consultas/detalleProceso.do?numConstancia=16-9-413233
D10: 9 | F10: 9 | G10: https://www.contratos.gov.co/consultas/detalleProceso.do?numConstancia=16-13-4699548 | H10: 9 | I10: http://www.contratos.gov.co/consultas/detalleProceso.do?numConstancia=16-9-413507
D11: 10 | E11: https://www.contratos.gov.co/consultas/detalleProceso.do?numConstancia=16-12-4575129 | F11: 10 | G11: https://www.contratos.gov.co/consultas/detalleProceso.do?numConstancia=16-13-4727695 | H11: 10 | I11: https://www.contratos.gov.co/consultas/detalleProceso.do?numConstancia=16-9-413522
D12: =D11+1 -> 11 | E12: http://www.contratos.gov.co/consultas/detalleProceso.do?numConstancia=16-12-4575374 | F12: 11 | G12: https://www.contratos.gov.co/consultas/detalleProceso.do?numConstancia=16-13-4726397 | H12: 11 | I12: http://www.contratos.gov.co/consultas/detalleProceso.do?numConstancia=16-9-413519
D13: =D12+1 -> 12 | E13: http://www.contratos.gov.co/consultas/detalleProceso.do?numConstancia=16-12-4578384 | F13: 12 | G13: https://www.contratos.gov.co/consultas/detalleProceso.do?numConstancia=16-13-4785197 | H13: 12
D14: =D13+1 -> 13 | E14: http://www.contratos.gov.co/consultas/detalleProceso.do?numConstancia=16-12-4577537 | F14: 13 | G14: https://www.contratos.gov.co/consultas/detalleProceso.do?numConstancia=16-13-4791787 | H14: 13
D15: =D14+1 -> 14 | E15: http://www.contratos.gov.co/consultas/detalleProceso.do?numConstancia=16-12-4577877 | F15: 14 | G15: https://www.contratos.gov.co/consultas/detalleProceso.do?numConstancia=16-13-4903354 | H15: 14
D16: =D15+1 -> 15 | E16: https://www.contratos.gov.co/consultas/detalleProceso.do?numConstancia=16-12-4577988 | F16: 15 | G16: NO HAY PROCESOS CON ESTE NÚMERO | H16: 15
D17: =D16+1 -> 16 | E17: https://www.contratos.gov.co/consultas/detalleProceso.do?numConstancia=16-12-4578726 | F17: 16 | G17: https://www.contratos.gov.co/consultas/detalleProceso.do?numConstancia=16-13-4922173 | H17: 16
D18: =D17+1 -> 17 | E18: https://www.contratos.gov.co/consultas/detalleProceso.do?numConstancia=16-12-4578726 | F18: 17 | G18: https://www.contratos.gov.co/consultas/detalleProceso.do?numConstancia=16-13-4922212 | H18: 17
D19: =D18+1 -> 18 | E19: http://www.contratos.gov.co/consultas/detalleProceso.do?numConstancia=16-12-4580401 | F19: 18 | G19: https://www.contratos.gov.co/consultas/detalleProceso.do?numConstancia=16-13-4946713 | H19: 18
D20: =D19+1 -> 19 | E20: http://www.contratos.gov.co/consultas/detalleProceso.do?numConstancia=16-12-4580029
D21: =D20+1 -> 20 | E21: http://www.contratos.gov.co/consultas/detalleProceso.do?numConstancia=16-12-4580184
D22: =D21+1 -> 21 | E22: https://www.contratos.gov.co/consultas/detalleProceso.do?numConstancia=16-12-4584366
D23: =D22+1 -> 22 | E23: http://www.contratos.gov.co/consultas/detalleProceso.do?numConstancia=16-12-4585611
D24: =D23+1 -> 23 | E24: http://www.contratos.gov.co/consultas/detalleProceso.do?numConstancia=16-12-4589207
D25: =D24+1 -> 24 | E25: https://www.contratos.gov.co/consultas/detalleProceso.do?numConstancia=16-12-4593136
D26: =D25+1 -> 25 | E26: http://www.contratos.gov.co/consultas/detalleProceso.do?numConstancia=16-12-4593279
D27: =D26+1 -> 26 | E27: http://www.contratos.gov.co/consultas/detalleProceso.do?numConstancia=16-12-4593616
D28: =D27+1 -> 27 | E28: http://www.contratos.gov.co/consultas/detalleProceso.do?numConstancia=16-12-4593894
D29: =D28+1 -> 28 | E29: http://www.contratos.gov.co/consultas/detalleProceso.do?numConstancia=16-12-4595669
D30: =D29+1 -> 29 | E30: http://www.contratos.gov.co/consultas/detalleProceso.do?numConstancia=16-12-4597032
D31: =D30+1 -> 30 | E31: http://www.contratos.gov.co/consultas/detalleProceso.do?numConstancia=16-12-4606540
... D76: =D75+1 -> 75 | E76: http://www.contratos.gov.co/consultas/detalleProceso.do?numConstancia=16-12-5025332
D77: =D76+1 -> 76
D78: =D77+1 -> 77
D79: =D78+1 -> 78
D80: =D79+1 -> 79
D81: =D80+1 -> 80
D82: =D81+1 -> 81

Sheet Hoja1
B2: Orden de Compra | C2: Entidad Estatal | D2: Fecha de la orden | E2: Estado | F2: Instrumento | G2: Total
B3: 8004 | C3: UNIDAD ADMINISTRATIVA ESPECIAL MIGRACION COLOMBIA | D3: 2016-04-25T16:57:16-05:00 | E3: Pedido | F3: Servicios Oracle | G3: $713,650,040
B4: 7883 | C4: UNIDAD ADMINISTRATIVA ESPECIAL MIGRACION COLOMBIA | D4: 2016-04-19T11:51:32-05:00 | E4: Pedido | F4: Nube Pública | G4: $17,687,097
B5: 7854 | C5: UNIDAD ADMINISTRATIVA ESPECIAL MIGRACION COLOMBIA | D5: 2016-04-18T08:40:23-05:00 | E5: Pedido | F5: Dotación de vestuario | G5: $2,690,588
B6: 7781 | C6: UNIDAD ADMINISTRATIVA ESPECIAL MIGRACION COLOMBIA | D6: 2016-04-12T08:19:54-05:00 | E6: Pedido | F6: Servicios Oracle | G6: $514,702,791
B7: 7643 | C7: UNIDAD ADMINISTRATIVA ESPECIAL MIGRACION COLOMBIA | D7: 2016-04-04T09:31:27-05:00 | E7: Pedido | F7: Grandes Superficies | G7: $4,084,800
B8: 7602 | C8: UNIDAD ADMINISTRATIVA ESPECIAL MIGRACION COLOMBIA | D8: 2016-04-01T08:22:05-05:00 | E8: Pedido | F8: Grandes Superficies | G8: $10,049,900
B9: 7278 | C9: UNIDAD ADMINISTRATIVA ESPECIAL MIGRACION COLOMBIA | D9: 2016-03-11T16:21:00-05:00 | E9: Pedido | F9: Dotación de vestuario | G9: $3,572,800
B10: 7268 | C10: UNIDAD ADMINISTRATIVA ESPECIAL MIGRACION COLOMBIA | D10: 2016-03-11T14:22:22-05:00 | E10: Pedido | F10: Dotación de vestuario | G10: $2,565,920
B11: 7267 | C11: UNIDAD ADMINISTRATIVA ESPECIAL MIGRACION COLOMBIA | D11: 2016-03-11T14:22:15-05:00 | E11: Pedido | F11: Dotación de vestuario | G11: $2,232,903
B12: 7266 | C12: UNIDAD ADMINISTRATIVA ESPECIAL MIGRACION COLOMBIA | D12: 2016-03-11T14:22:08-05:00 | E12: Pedido | F12: Dotación de vestuario | G12: $1,448,701
B13: 7265 | C13: UNIDAD ADMINISTRATIVA ESPECIAL MIGRACION COLOMBIA | D13: 2016-03-11T14:22:03-05:00 | E13: Pedido | F13: Dotación de vestuario | G13: 556.8
B14: 7264 | C14: UNIDAD ADMINISTRATIVA ESPECIAL MIGRACION COLOMBIA | D14: 2016-03-11T14:21:55-05:00 | E14: Pedido | F14: Dotación de vestuario | G14: 730.8
B15: 7263 | C15: UNIDAD ADMINISTRATIVA ESPECIAL MIGRACION COLOMBIA | D15: 2016-03-11T14:21:36-05:00 | E15: Pedido | F15: Dotación de vestuario | G15: $4,485,922
B16: 6905 | C16: UNIDAD ADMINISTRATIVA ESPECIAL MIGRACION COLOMBIA | D16: 2016-02-24T16:40:23-05:00 | E16: Pedido | F16: Microsoft | G16: $27,106,823
B17: 6824 | C17: UNIDAD ADMINISTRATIVA ESPECIAL MIGRACION COLOMBIA | D17: 2016-02-19T16:09:03-05:00 | E17: Pedido | F17: Servicios Financieros | G17: 0
B18: 6787 | C18: UNIDAD ADMINISTRATIVA ESPECIAL MIGRACION COLOMBIA | D18: 2016-02-19T09:22:30-05:00 | E18: Pedido | F18: Microsoft | G18: $23,867,319
B19: 6659 | C19: UNIDAD ADMINISTRATIVA ESPECIAL MIGRACION COLOMBIA | D19: 2016-02-12T16:37:01-05:00 | E19: Pedido | F19: Tiquetes Aéreos | G19: $1,203,000,000
B20: 6571 | C20: UNIDAD ADMINISTRATIVA ESPECIAL MIGRACION COLOMBIA | D20: 2016-02-08T11:09:04-05:00 | E20: Pedido | F20: SOAT | G20: $41,748,343
B21: 6460 | C21: UNIDAD ADMINISTRATIVA ESPECIAL MIGRACION COLOMBIA | D21: 2016-01-29T16:05:54-05:00 | E21: Pedido | F21: Grandes Superficies | G21: $6,237,600

Sheet CONTRATOS 2016 (2)
B1: A CARGO | C1: EXPEDIENTE | D1: No PROCESO | E1: FECHA PUBLICACION PROCESO | F1: MODALIDAD | G1: CAUSAL | H1: REGIONAL/ DEPENDCIA NIVEL CENTRAL | I1: AREA DE LA NECESISDAD | J1: OBJETO | K1: CONSECUTIVO PLAN | L1: CODIGO UNSCSP | M1: NOMBRE DE CODIGO | N1: VALOR PROCESO | O1: CDP | P1: RUBRO | Q1: ETAPA | R1: ESTADO | S1: FECHA LIQUIDACION | T1: SIRECI | U1: NOMBRE | V1: No. CONTRATO | W1: Fecha de Firma | X1: fecha de publicacion CONTRATO | Y1: extemporaneidad | Z1: TIPO DE CONTRATO | AA1: TIPO DE CONTRATO | AB1: LUGAR EJECUCION DEPARTAMENTO | AC1: LUGAR EJECUCION MUNICIPIO | AD1: CONTRATISTA | AE1: IDENTIFICACION | AF1: DV | AG1: NUMERO RP | AH1: FECHA RP | AI1: TIPO DE CUENTA | AJ1: NUMERO DE CUENTA | AK1: NOMBRE DE BANCO | AL1: VALOR HONORARIOS MENSIAL | AM1: VALOR CONTRATO 2016 | AN1: VALOR VF | AO1: TOTAL CONTRATO | AP1: AMPARO | AQ1: % | AR1: VIGENCIA | AS1: ASEGURADORA | AT1: APROBACION | AU1: FECHA INICIO | AV1: FECHA DE TERMINACION | AW1: DIAS | AX1: FECHA DE TERMINACION GARANTIA | AY1: NOMBRE SUPERVISOR | AZ1: CEDULA SUPERVISOR | BA1: FORMA DE PAGO | BB1: ADICION REGISTRO | BC1: FECHA REGISTRO | BD1: VALOR | BE1: SIRECI | BF1: fecha de publicacion CONTRATO | BG1: extemporaneidad | BH1: ADICION REGISTRO | BI1: FECHA REGISTRO | BJ1: VALOR | BK1: SIRECI | BL1: fecha de publicacion CONTRATO | BM1: extemporaneidad | BN1: ADICION REGISTRO | BO1: FECHA REGISTRO | BP1: VALOR | BQ1: SIRECI | BR1: fecha de publicacion CONTRATO | BS1: extemporaneidad | BT1: VIGENCIA FUTURA | BU1: TOTAL ADICIONES | BV1: VALOR TOTAL DEL CONTRATO | BW1: PRORROGA FECHA | BX1: TIEMPO | BY1: SIRECI | BZ1: fecha de publicacion CONTRATO | CA1: extemporaneidad | CB1: PRORROGA FECHA | CC1: TIEMPO | CD1: SIRECI | CE1: fecha de publicacion CONTRATO | CF1: extemporaneidad | CG1: PRORROGA FECHA | CH1: TIEMPO | CI1: SIRECI | CJ1: fecha de publicacion CONTRATO | CK1: extemporaneidad | CL1: OTRO | CM1: FECHA DE TERMINACION | CO1: CUENTAS POR PAGAR | CP1: SALDO A LIBERAR | CQ1: PAGOS | CS1: %EJECUCION | CU1: ESTADO | CW1: INICIO | CX1: TERMINACION | CY1: No de dias DEL CONTRATO | CZ1: No de dias HASTA EL TRIMESTRE | DA1: AVANCE FISICO PROGRAMADO | DB1: 42277 | DC1: AVANCE PRESUPUESTAL PROGRAMADO | DD1: AVANCE PRESUPUESTAL REAL
A2: =V2 -> 1 | B2: RISDEL | C2: 2016623140500001E | D2: 001 | E2: 42374 | F2: DIRECTA | G2: PRESTACIÓN SERVICIOS PROFESIONALES | H2: BOGOTA D.C. | I2: GRUPO DE CONTRATOS | J2: Prestar los servicios profesionales en el Grupo de Contratos adscrito a la Subdirección Administrativa y Financiera, en el desarrollo de procesos precontractuales y post contractuales liderados por esta dependencia, de acuerdo con las condiciones señaladas en las condiciones y especificaciones técnicas descritas en los Estudios Previos y la Propuesta presentada por EL CONTRATISTA. | K2: 212 | L2: 801116 | M2: Servicios de personal temporal | N2: 44000000 | O2: 4916 | P2: A-1-0-2-14 | Q2: CELEBRADO | R2: EJECUCIÓN | V2: 1 | W2: 42375 | X2: 42375 | Y2: =W2-X2 -> 0 | Z2: PRESTACIÓN DE SERVCIOS | AA2: PROFESIONALES | AB2: BOGOTÁ D.C. | AC2: BOGOTÁ D.C. | AD2: CAROLINA PALMA ORTIZ | AE2: 39567488 | AG2: 6816 | AH2: 42522 | AI2: AHORROS | AJ2: 230550763635 | AK2: BANCO POPULAR | AL2: 4000000 | AM2: 44000000 | AO2: =+AM2+AN2 -> 44000000 | AP2: NO REQUIERE | AQ2: NA | AR2: NA | AS2: NA | AT2: NA | AU2: 42375 | AV2: 42709 | AW2: =AV2-AU2 -> 334 | AX2: 0 | AY2: LUZ MIRIAM BOTERO SERNA | AZ2: =LOOKUP(AY2,'SUPERVISIONES 2015'!$A$3:$B$1279,'SUPERVISIONES 2015'!$B$3:$B$1279) -> 24433491 | BA2: La Unidad Administrativa Especial Migración Colombia pagará al contratista el valor del contrato en mensualidades vencidas a razón de CUATRO MILLONES DE PESOS M/CTE ($4.000.000), incluido los impuestos a que haya lugar. | BT2: =+AN2 -> 0 | BU2: =+BD2+BJ2+BP2+BT2 -> 0 | BV2: =+AO2+BU2 -> 44000000 | CM2: =+IF(BX2>AV2,IF(CC2>BX2,IF(CH2>CC2,CH2,CC2),BX2),AV2) -> 42709 | CQ2: =+SUMIFS(#REF!,#REF!,AG2) -> #REF! | CR2: =+SUMIFS(#REF!,#REF!,BB2)+SUMIFS(#REF!,#REF!,BH2)+SUMIFS(#REF!,#REF!,BN2) -> #REF! | CS2: =+(CQ2+CR2)/BV2 -> #REF! | CU2: =+R2 -> EJECUCIÓN | CW2: =+AU2 -> 42375 | CX2: =+CM2 -> 42709 | CY2: =+CX2-CW2 -> 334 | CZ2: =+$DB$1-CW2 -> -98 | DA2: =+IF(CZ2>=CY2,100,(CZ2/CY2)*100) -> -29.341317 | DB2: FECHA DE PRESENTACION DEL SIRECI | DC2: =+DA2 -> -29.341317 | DD2: =+CS2 -> #REF!
A3: =V3 -> 2 | B3: RISDEL | C3: 2016623140100001E | D3: 002 | E3: 42375 | F3: DIRECTA | G3: ARRENDAMIENTO | H3: SANTA MARTA | I3: ADMINISTRATIVA | J3: Contratar el arrendamiento de un local comercial de propiedad del ARRENDADOR, ubicado en el departamento del Magdalena, en la ciudad de Santa Marta en la nomenclatura calle 22 Nº13 A – 88 barrio Los Alcázares, matrícula inmobiliaria Nº 080-11689 y código catastral 47001010500040001000 de la Oficina de Registro de Instrumentos Públicos de Santa Marta, cuyos linderos y características se encuentran descritos en la Escritura Pública Nº 1330 del 20 de julio de 1995 según certificado expedido por la Oficina de Registro de Instrumentos Públicos de Santa Marta. | K3: 232 | L3: 801315 | M3: Alquiler o arrendamiento de propiedades o edificaciones | N3: 111259817 | O3: 1616 | P3: A-2-0-4-10-2 | Q3: CELEBRADO | R3: EJECUCIÓN | V3: 2 | W3: 42377 | X3: 42382 | Y3: =X3-W3 -> 5 | Z3: ARRENDAMIENTO | AA3: ARRENDAMIENTO | AB3: MAGDALENA | AC3: SANTA MARTA | AD3: JULIO RAMON PIZARRO PEREZ | AE3: 4973586 | AG3: 9416 | AH3: 42377 | AI3: AHORROS | AJ3: 51616991195 | AK3: BANCOLOMBIA S.A. | AL3: 9271651 | AM3: 111259817 | AO3: =+AM3+AN3 -> 111259817 | AP3: NO REQUIERE | AQ3: NA | AR3: NA | AS3: NA | AT3: NA | AU3: 42377 | AV3: 42742 | AW3: =AV3-AU3 -> 365 | AY3: SANDRO EDUARDO MURCIA ALFONSO | AZ3: =LOOKUP(AY3,'SUPERVISIONES 2015'!$A$3:$B$1279,'SUPERVISIONES 2015'!$B$3:$B$1279) -> 7314404 | BA3: El canon de arrendamiento se pagara mes anticipado, por la suma de: NUEVE MILLONES DOSCIENTOS SETENTA Y UN MIL SEISCIENTOS CINTUENTA Y UN PESOS MCTE ($9.271.651) incluido el IVA y demás impuestos a que haya lugar. El pago se realizará en la cuenta bancaria que para tal efecto indique el arrendador. El valor final del contrato corresponderá a la prestación efectiva y real del servicio. En caso de terminación anticipada, cesión o suspensión del contrato, sólo habrá lugar al pago proporcional de los servicios efectivamente prestados. | BT3: =+AN3 -> 0 | BU3: =+BD3+BJ3+BP3+BT3 -> 0 | BV3: =+AO3+BU3 -> 111259817 | CM3: =+IF(BX3>AV3,IF(CC3>BX3,IF(CH3>CC3,CH3,CC3),BX3),AV3) -> 42742 | CQ3: =+SUMIFS(#REF!,#REF!,AG3) -> #REF! | CR3: =+SUMIFS(#REF!,#REF!,BB3)+SUMIFS(#REF!,#REF!,BH3)+SUMIFS(#REF!,#REF!,BN3) -> #REF! | CS3: =+(CQ3+CR3)/BV3 -> #REF! | CU3: =+R3 -> EJECUCIÓN | CW3: =+AU3 -> 42377 | CX3: =+CM3 -> 42742 | CY3: =+CX3-CW3 -> 365 | CZ3: =+$DB$1-CW3 -> -100 | DA3: =+IF(CZ3>=CY3,100,(CZ3/CY3)*100) -> -27.39726 | DC3: =+DA3 -> -27.39726 | DD3: =+CS3 -> #REF!
A4: =V4 -> 6 | B4: RISDEL | C4: 2016623140500005E | D4: 003 | E4: 42377 | F4: DIRECTA | G4: PRESTACIÓN SERVICIOS PROFESIONALES | H4: BOGOTA D.C. | I4: GRUPO DE CONTRATOS | J4: Prestar servicios profesionales y de apoyo a la gestión en el grupo de contratos perteneciente a la subdirección administrativa y financiera de migración Colombia, de acuerdo con las condiciones señaladas en las condiciones y especificaciones técnicas descritas en los Estudios Previos y la Propuesta presentada por EL CONTRATISTA. | K4: 200 | L4: 801116 | M4: Servicios de personal temporal | N4: 28750000 | O4: 7816 | P4: A-1-0-2-14 | Q4: CELEBRADO | R4: EJECUCIÓN | V4: 6 | W4: 42383 | X4: 42384 | Y4: =X4-W4 -> 1 | Z4: PRESTACIÓN DE SERVCIOS | AA4: PROFESIONALES | AB4: BOGOTÁ D.C. | AC4: BOGOTÁ D.C. | AD4: MARIA JIMENA CASTRO ACEVEDO | AE4: 1022097423 | AG4: 17016 | AH4: 42383 | AI4: AHORROS | AJ4: 24085108791 | AK4: BANCOLOMBIA S.A. | AL4: 2500000 | AM4: 28750000 | AO4: =+AM4+AN4 -> 28750000 | AP4: NO REQUIERE | AQ4: NA | AR4: NA | AS4: NA | AT4: NA | AU4: 42383 | AV4: 42732 | AW4: =AV4-AU4 -> 349 | AX4: 0 | AY4: LUZ MIRIAM BOTERO SERNA | AZ4: =LOOKUP(AY4,'SUPERVISIONES 2015'!$A$3:$B$1279,'SUPERVISIONES 2015'!$B$3:$B$1279) -> 24433491 | BA4: Una vez perfeccionado el contrato y cumplidos los requisitos de ejecución, la Unidad Administrativa Especial Migración Colombia pagará al contratista el valor del contrato en once (11) mensualidades vencidas a razón de DOS MILLONES QUINIENTOS MIL PESOS MCTE ($2.500.000.00) cada una y un (1) último pago proporcional a 15 días por valor de UN MILLON DOSCIENTOS CINCUENTA MIL PESOS M/CTE ($1.250.000). | BT4: =+AN4 -> 0 | BU4: =+BD4+BJ4+BP4+BT4 -> 0 | BV4: =+AO4+BU4 -> 28750000 | CM4: =+IF(BX4>AV4,IF(CC4>BX4,IF(CH4>CC4,CH4,CC4),BX4),AV4) -> 42732 | CQ4: =+SUMIFS(#REF!,#REF!,AG4) -> #REF! | CR4: =+SUMIFS(#REF!,#REF!,BB4)+SUMIFS(#REF!,#REF!,BH4)+SUMIFS(#REF!,#REF!,BN4) -> #REF! | CS4: =+(CQ4+CR4)/BV4 -> #REF! | CU4: =+R4 -> EJECUCIÓN | CW4: =+AU4 -> 42383 | CX4: =+CM4 -> 42732 | CY4: =+CX4-CW4 -> 349 | CZ4: =+$DB$1-CW4 -> -106 | DA4: =+IF(CZ4>=CY4,100,(CZ4/CY4)*100) -> -30.372493 | DC4: =+DA4 -> -30.372493 | DD4: =+CS4 -> #REF!
A5: =V5 -> DESIERTO | B5: RISDEL | C5: 2016623140500004E | D5: 004 | E5: 42377 | F5: DIRECTA | G5: PRESTACIÓN SERVICIOS PROFESIONALES | H5: BOGOTA D.C. | I5: GRUPO DE VIATICOS | J5: Prestación de servicios de apoyo al grupo de pasajes y viáticos en el proceso de realizar egresos y actualización a diario de los libros y archivo macro de pagos, de acuerdo con las condiciones señaladas en las condiciones y especificaciones técnicas descritas en los Estudios Previos y la Propuesta presentada por EL CONTRATISTA | K5: 152 | L5: 801615 | M5: Servicios de gestion de servicios profesionales | N5: 23760000 | O5: 7416 | P5: A-1-0-2-14 | Q5: DESCARTADO | R5: DESCARTADO | S5: DESCARTADO | T5: DESCARTADO | U5: DESCARTADO | V5: DESIERTO | X5: DESCARTADO | Z5: DESCARTADO | AA5: DESCARTADO | AB5: DESCARTADO | AC5: DESCARTADO | AD5: DESCARTADO | AE5: DESCARTADO | AF5: DESCARTADO | AG5: DESCARTADO | AH5: DESCARTADO | AI5: DESCARTADO | AJ5: DESCARTADO | AK5: DESCARTADO | AL5: DESCARTADO | AO5: =+AM5+AN5 -> 0 | AP5: NO REQUIERE | AQ5: NA | AR5: NA | AS5: NA | AT5: NA | AW5: =AV5-AU5 -> 0 | AZ5: =LOOKUP(AY5,'SUPERVISIONES 2015'!$A$3:$B$1279,'SUPERVISIONES 2015'!$B$3:$B$1279) -> #N/A | BT5: =+AN5 -> 0 | BU5: =+BD5+BJ5+BP5+BT5 -> 0 | BV5: =+AO5+BU5 -> 0 | CM5: =+IF(BX5>AV5,IF(CC5>BX5,IF(CH5>CC5,CH5,CC5),BX5),AV5) -> 0 | CQ5: =+SUMIFS(#REF!,#REF!,AG5) -> #REF! | CR5: =+SUMIFS(#REF!,#REF!,BB5)+SUMIFS(#REF!,#REF!,BH5)+SUMIFS(#REF!,#REF!,BN5) -> #REF! | CS5: =+(CQ5+CR5)/BV5 -> #REF! | CU5: =+R5 -> DESCARTADO | CW5: =+AU5 -> 0 | CX5: =+CM5 -> 0 | CY5: =+CX5-CW5 -> 0 | CZ5: =+$DB$1-CW5 -> 42277 | DA5: =+IF(CZ5>=CY5,100,(CZ5/CY5)*100) -> 100 | DC5: =+DA5 -> 100 | DD5: =+CS5 -> #REF!
A6: =V6 -> 22 | B6: RISDEL | C6: 2016623140100007E | D6: 005 | E6: 42377 | F6: DIRECTA | G6: ARRENDAMIENTO | H6: ANTIOQUIA | I6: ADMINISTRATIVA | J6: El ARRENDADOR se obliga para con el ARRENDATARIO a entregar en arrendamiento el inmueble ubicado en el municipio de Turbo Antioquia, identificado con las nomenclaturas calle 100 No 14-57, apartamento 201 y Calle 100 No 14-63, apartamento 101, esquina, con una superficie total de 160.2 metros cuadrados | K6: 61 | L6: 801315 | M6: Alquiler o arrendamiento de propiedades o edificaciones | N6: 28402000 | O6: 6016 | P6: A-2-0-4-10-2 | Q6: CELEBRADO | R6: EJECUCIÓN | V6: 22 | W6: 42395 | X6: 42396 | Y6: =X6-W6 -> 1 | Z6: ARRENDAMIENTO | AA6: ARRENDAMIENTO | AB6: ANTIOQUIA | AC6: TURBO | AD6: LINDA MERY GRACIANY DE ESCOBAR | AE6: 32529734 | AG6: 28516 | AH6: 42395 | AI6: AHORROS | AJ6: 66138556299 | AK6: BANCOLOMBIA S.A. | AL6: 2582000 | AM6: 28402000 | AO6: =+AM6+AN6 -> 28402000 | AP6: NO REQUIERE | AQ6: NA | AR6: NA | AS6: NA | AT6: NA | AU6: 42395 | AV6: 42729 | AW6: =AV6-AU6 -> 334 | AY6: LUZ REINELDA SANCHEZ GIL | AZ6: =LOOKUP(AY6,'SUPERVISIONES 2015'!$A$3:$B$1279,'SUPERVISIONES 2015'!$B$3:$B$1279) -> 26271656 | BA6: El canon de arrendamiento mensual se pagara mes anticipado AL ARRENDADOR dentro de los primeros diez (10) días calendario por valor de DOS MILLONES TRESCIENTOS NOVENTA QUINIENTOS VEINTE PESOS ($2´582.000) MCTE., incluido el IVA y demás impuestos a que haya lugar. | BT6: =+AN6 -> 0 | BU6: =+BD6+BJ6+BP6+BT6 -> 0 | BV6: =+AO6+BU6 -> 28402000 | CM6: =+IF(BX6>AV6,IF(CC6>BX6,IF(CH6>CC6,CH6,CC6),BX6),AV6) -> 42729 | CQ6: =+SUMIFS(#REF!,#REF!,AG6) -> #REF! | CR6: =+SUMIFS(#REF!,#REF!,BB6)+SUMIFS(#REF!,#REF!,BH6)+SUMIFS(#REF!,#REF!,BN6) -> #REF! | CS6: =+(CQ6+CR6)/BV6 -> #REF! | CU6: =+R6 -> EJECUCIÓN | CW6: =+AU6 -> 42395 | CX6: =+CM6 -> 42729 | CY6: =+CX6-CW6 -> 334 | CZ6: =+$DB$1-CW6 -> -118 | DA6: =+IF(CZ6>=CY6,100,(CZ6/CY6)*100) -> -35.329341 | DC6: =+DA6 -> -35.329341 | DD6: =+CS6 -> #REF!
A7: =V7 -> 24 | B7: RISDEL | C7: 2016623140100006E | D7: 006 | E7: 42377 | F7: DIRECTA | G7: ARRENDAMIENTO | H7: ANTIOQUIA | I7: ADMINISTRATIVA | J7: El ARRENDADOR se obliga para con el ARRENDATARIO a entregar en arrendamiento un cupo de parqueadero para el parque automotor del Centro Facilitador de Servicios Migratorios en la ciudad de Quibdó, ubicado en la carrera 5 entre calles 24 y 25 | K7: 57 | L7: 801315 | M7: Alquiler o arrendamiento de propiedades o edificaciones | N7: 2520000 | O7: 6216 | P7: A-2-0-4-10-2 | Q7: CELEBRADO | R7: EJECUCIÓN | V7: 24 | W7: 42397 | X7: 42398 | Y7: =X7-W7 -> 1 | Z7: ARRENDAMIENTO | AA7: ARRENDAMIENTO | AB7: CHOCO | AC7: QUIBDO | AD7: LUIS ANIBAL FLOREZ MOSCOSO | AE7: 11695148 | AG7: 33816 | AH7: 42397 | AI7: AHORROS | AJ7: 440334126 | AK7: BANCO BILVAO VIZCAYA ARGENTARIA COLOMBIA S.A. BBVA | AL7: 210000 | AM7: 2520000 | AO7: =+AM7+AN7 -> 2520000 | AP7: NO REQUIERE | AQ7: NA | AR7: NA | AS7: NA | AT7: NA | AU7: 42397 | AV7: 42762 | AW7: =AV7-AU7 -> 365 | AY7: YADID DEL CARMEN MARTINEZ HINESTROZA | AZ7: =LOOKUP(AY7,'SUPERVISIONES 2015'!$A$3:$B$1279,'SUPERVISIONES 2015'!$B$3:$B$1279) -> 1077438612 | BA7: El canon de arrendamiento se pagara por doce (12) mensualidades anticipadas, cada una por la suma de: DOSCIENTOS DIEZ MIL PESOS MCTE ($210.000) incluido el IVA y demás impuestos a que haya lugar. El pago se realizará en la cuenta bancaria que para tal efecto indique el arrendador. El valor final del contrato corresponderá a la prestación efectiva y real del servicio. En caso de terminación anticipada, cesión o suspensión del contrato, sólo habrá lugar al pago proporcional de los servicios efectivamente prestados. | BT7: =+AN7 -> 0 | BU7: =+BD7+BJ7+BP7+BT7 -> 0 | BV7: =+AO7+BU7 -> 2520000 | CM7: =+IF(BX7>AV7,IF(CC7>BX7,IF(CH7>CC7,CH7,CC7),BX7),AV7) -> 42762 | CQ7: =+SUMIFS(#REF!,#REF!,AG7) -> #REF! | CR7: =+SUMIFS(#REF!,#REF!,BB7)+SUMIFS(#REF!,#REF!,BH7)+SUMIFS(#REF!,#REF!,BN7) -> #REF! | CS7: =+(CQ7+CR7)/BV7 -> #REF! | CU7: =+R7 -> EJECUCIÓN | CW7: =+AU7 -> 42397 | CX7: =+CM7 -> 42762 | CY7: =+CX7-CW7 -> 365 | CZ7: =+$DB$1-CW7 -> -120 | DA7: =+IF(CZ7>=CY7,100,(CZ7/CY7)*100) -> -32.876712 | DC7: =+DA7 -> -32.876712 | DD7: =+CS7 -> #REF!
A8: =V8 -> 7 | B8: CAROLINA | C8: 2016623140500009E | D8: 007 | E8: 42381 | F8: DIRECTA | G8: PRESTACIÓN SERVICIOS PROFESIONALES | H8: BOGOTA D.C. | I8: SUBDIRECCIÓN CONTROL MIGRATORIO | J8: Prestar los servicios profesionales de asesoría y apoyo en la formulación, estructuración y diseño de proyectos, iniciativas, estudios y procedimientos para la optimización de la gestión de control migratorio liderados por la Subdirección de Control Migratorio, de acuerdo con las condiciones señaladas en las condiciones y especificaciones técnicas descritas en los Estudios Previos y la Propuesta presentada por EL CONTRATISTA. | K8: 166 | L8: 801116 | M8: Servicios de personal temporal | N8: 52000000 | O8: 7516 | P8: A-1-0-2-14 | Q8: CELEBRADO | R8: EJECUCIÓN | V8: 7 | W8: 42383 | X8: 42384 | Y8: =X8-W8 -> 1 | Z8: PRESTACIÓN DE SERVCIOS | AA8: PROFESIONALES | AB8: BOGOTÁ D.C. | AC8: BOGOTÁ D.C. | AD8: RUBEN DARIO GONZALEZ HERNANDEZ | AE8: 14696934 | AG8: 16916 | AH8: 42383 | AI8: AHORRO | AJ8: 56561350 | AK8: BANCO DAVIVIENDA SA | AL8: 5200000 | AM8: 52000000 | AO8: =+AM8+AN8 -> 52000000 | AP8: NO REQUIERE | AQ8: NA | AR8: NA | AS8: NA | AT8: NA | AU8: 42383 | AV8: 42687 | AW8: =AV8-AU8 -> 304 | AY8: HUMBERTO VELASQUEZ ARDILA | AZ8: =LOOKUP(AY8,'SUPERVISIONES 2015'!$A$3:$B$1279,'SUPERVISIONES 2015'!$B$3:$B$1279) -> 17336974 | BA8: Una vez perfeccionado el contrato y cumplidos los requisitos de ejecución, la Unidad Administrativa Especial Migración Colombia pagará al contratista el valor del contrato en mensualidades vencidas a razón de CINCO MILLONES DOSCIENTOS MIL DE PESOS M/CTE ($5.200.000) cada una, incluido los impuestos a que haya lugar. | BT8: =+AN8 -> 0 | BU8: =+BD8+BJ8+BP8+BT8 -> 0 | BV8: =+AO8+BU8 -> 52000000 | CM8: =+IF(BX8>AV8,IF(CC8>BX8,IF(CH8>CC8,CH8,CC8),BX8),AV8) -> 42687 | CQ8: =+SUMIFS(#REF!,#REF!,AG8) -> #REF! | CR8: =+SUMIFS(#REF!,#REF!,BB8)+SUMIFS(#REF!,#REF!,BH8)+SUMIFS(#REF!,#REF!,BN8) -> #REF! | CS8: =+(CQ8+CR8)/BV8 -> #REF! | CU8: =+R8 -> EJECUCIÓN | CW8: =+AU8 -> 42383 | CX8: =+CM8 -> 42687 | CY8: =+CX8-CW8 -> 304 | CZ8: =+$DB$1-CW8 -> -106 | DA8: =+IF(CZ8>=CY8,100,(CZ8/CY8)*100) -> -34.868421 | DC8: =+DA8 -> -34.868421 | DD8: =+CS8 -> #REF!
A9: =V9 -> 9 | B9: CLAUDIA A. | C9: 2016623140500027E | D9: 008 | E9: 42381 | F9: DIRECTA | G9: PRESTACIÓN SERVICIOS PROFESIONALES | H9: NIVEL CENTRAL | I9: SUBDIRECCION ADMINSITRATIVA Y FINANCIERA | J9: Prestar los servicios de apoyo a la gestión en temas de Infraestructura en la Subdirección Administrativa y Financiera de Migración Colombia | K9: 5 | L9: 801116 | M9: Servicios de Gestión, Servicios Profesionales de Empresa y Servicios Administrativos. | N9: 41´580.000 | O9: 5516 | P9: A-1-0-2-14 | Q9: CELEBRADO | R9: EJECUCIÓN | V9: 9 | W9: 42384 | X9: 42389 | Y9: =X9-W9 -> 5 | Z9: PRESTACION SE SERVICIOS | AA9: PROFESIONALES | AB9: BOGOTÁ D.C. | AC9: BOGOTÁ D.C. | AD9: FRANK DANIEL RAMOS CHAPARRO | AE9: 5825755 | AG9: 17816 | AH9: 42384 | AI9: AHORROS | AJ9: 4292009068 | AK9: COLPATRIA | AL9: 3´780.000 | AM9: 41580000 | AO9: =+AM9+AN9 -> 41580000 | AP9: NO REQUIERE | AQ9: NA | AR9: NA | AS9: NA | AT9: NA | AU9: 42384 | AV9: 42719 | AW9: =AV9-AU9 -> 335 | AY9: MARCELA MANRIQUE CASTRO | AZ9: =LOOKUP(AY9,'SUPERVISIONES 2015'!$A$3:$B$1279,'SUPERVISIONES 2015'!$B$3:$B$1279) -> 52544180 | BA9: Una vez perfeccionado el contrato y cumplidos los requisitos de ejecución, la Unidad Administrativa Especial Migración Colombia pagará al contratista el valor del contrato en Once (11) Mensualidades vencidas cada una de TRES MILLONES SETECIENTOS OCHENTA MIL PESOS ($3´780.000), incluido los impuestos a que haya lugar. | BT9: =+AN9 -> 0 | BU9: =+BD9+BJ9+BP9+BT9 -> 0 | BV9: =+AO9+BU9 -> 41580000 | CM9: =+IF(BX9>AV9,IF(CC9>BX9,IF(CH9>CC9,CH9,CC9),BX9),AV9) -> 42719 | CQ9: =+SUMIFS(#REF!,#REF!,AG9) -> #REF! | CR9: =+SUMIFS(#REF!,#REF!,BB9)+SUMIFS(#REF!,#REF!,BH9)+SUMIFS(#REF!,#REF!,BN9) -> #REF! | CS9: =+(CQ9+CR9)/BV9 -> #REF! | CU9: =+R9 -> EJECUCIÓN | CW9: =+AU9 -> 42384 | CX9: =+CM9 -> 42719 | CY9: =+CX9-CW9 -> 335 | CZ9: =+$DB$1-CW9 -> -107 | DA9: =+IF(CZ9>=CY9,100,(CZ9/CY9)*100) -> -31.940299 | DC9: =+DA9 -> -31.940299 | DD9: =+CS9 -> #REF!
A10: =V10 -> 46 | B10: CLAUDIA A. | C10: 2016623140500028E | D10: 009 | E10: 42381 | F10: DIRECTA | G10: INTERADMINISTRATIVO | H10: NIVEL CENTRAL | I10: SUBDIRECCION ADMINSITRATIVA Y FINANCIERA | J10: Contratar el servicio especializado de transporte de carga vía aérea y terrestre, para el envío de manera segura y oportuna de los bienes, mobiliario y útiles de papelería y escritorio a cargo de la entidad, desde y con destino al nivel central y las Sedes Regionales, Centros Facilitadores de Servicios Migratorios y Puestos de Control Migratorio Aéreo y Terrestre, a nivel nacional. | K10: 52 | L10: 781015 -781018 | M10: Servicios de Transporte, almacenaje y correo | N10: 55’000.000 | O10: 7316 | P10: A-2-0-4--6-3 | Q10: CELEBRADO | R10: EJECUCION | V10: 46 | W10: 42431 | X10: 42436 | Y10: =X10-W10 -> 5 | Z10: CONTRATO INTERADMINISTRATIVO | AA10: INTERADMINISTRATIVO | AB10: A NIVEL NACIONAL | AC10: A NIVEL NACIONAL | AD10: SERVICIOS POSTALES NACIONALES S.A. | AE10: 900062917 | AF10: 9 | AG10: 52816 | AH10: 42431 | AI10: AHORROS | AJ10: 221806300 | AK10: OCCIDENTE | AM10: 55000000 | AO10: 55000000 | AT10: NA | AU10: 42431 | AV10: 42735 | AW10: =AV10-AU10 -> 304 | AY10: ANGELA PATRICIA PARRA | AZ10: 52992368 | BA10: La Unidad Administrativa Especial Migración Colombia cancelará a Servicios Postales Nacionales S.A. el valor pactado en Pagos mensuales de conformidad con los servicios efectivamente prestados en el mes anterior. | BT10: =+AN10 -> 0 | BU10: =+BD10+BJ10+BP10+BT10 -> 0 | BV10: =+AO10+BU10 -> 55000000 | CM10: =+IF(BX10>AV10,IF(CC10>BX10,IF(CH10>CC10,CH10,CC10),BX10),AV10) -> 42735 | CQ10: =+SUMIFS(#REF!,#REF!,AG10) -> #REF! | CR10: =+SUMIFS(#REF!,#REF!,BB10)+SUMIFS(#REF!,#REF!,BH10)+SUMIFS(#REF!,#REF!,BN10) -> #REF! | CS10: =+(CQ10+CR10)/BV10 -> #REF! | CU10: =+R10 -> EJECUCION | CW10: =+AU10 -> 42431 | CX10: =+CM10 -> 42735 | CY10: =+CX10-CW10 -> 304 | CZ10: =+$DB$1-CW10 -> -154 | DA10: =+IF(CZ10>=CY10,100,(CZ10/CY10)*100) -> -50.657895 | DC10: =+DA10 -> -50.657895 | DD10: =+CS10 -> #REF!
